Workbook
Name soc.a: [1]Klausimynas!$H$15:$J$15
Name Taip__neigiama_nuomonė_arba_atsisakymas_pareikšti_nuomonę: [2]Klausimynas!$H$27:$J$27

Sheet AKL
C2: =IF(ISBLANK(INPUT!I4),"",INPUT!I4) -> Valstybinė miškų tarnyba
C3: =IF(ISBLANK(INPUT!I6),"",INPUT!I6) -> 302471705
C4: Sritis | D4: AKL įvertinimas | G4: Pastabos | I4: Lygmuo | K4: Vertinimo intervalas
B5: I. | C5: SKAIDRUMO KULTŪRA | D5: =SKAICIUOKLE!I4 -> 1 | F5: =IF(D5="-","-",IF(D5>90%,$I$5,IF(D5>70%,$I$6,IF(D5>40%,$I$7,IF(D5>10%,$I$8,$I$9))))) -> Labai aukštas | I5: Labai aukštas | K5: >90% | L5: - | M5: =100%
B6: II. | C6: RIZIKŲ VALDYMAS | D6: =SKAICIUOKLE!I21 -> 0.975 | F6: =IF(D6="-","-",IF(D6>90%,$I$5,IF(D6>70%,$I$6,IF(D6>40%,$I$7,IF(D6>10%,$I$8,$I$9))))) -> Labai aukštas | I6: Aukštas | K6: >70% | L6: - | M6: =90%
B7: III. | C7: PRANEŠĖJŲ APSAUGA | D7: =SKAICIUOKLE!I36 -> 0.95 | F7: =IF(D7="-","-",IF(D7>90%,$I$5,IF(D7>70%,$I$6,IF(D7>40%,$I$7,IF(D7>10%,$I$8,$I$9))))) -> Labai aukštas | I7: Vidutinis | K7: >40% | L7: - | M7: =70%
B8: IV. | C8: TEISĖKŪROS TOBULINIMAS | D8: =SKAICIUOKLE!I50 -> 0.95 | F8: =IF(D8="-","-",IF(D8>90%,$I$5,IF(D8>70%,$I$6,IF(D8>40%,$I$7,IF(D8>10%,$I$8,$I$9))))) -> Labai aukštas | I8: Žemas | K8: >10% | L8: - | M8: =40%
B9: V. | C9: ESAMO ARBA POTENCIALAUS TIEKĖJO PATIKRA | D9: =SKAICIUOKLE!I62 -> 1 | F9: =IF(D9="-","-",IF(D9>90%,$I$5,IF(D9>70%,$I$6,IF(D9>40%,$I$7,IF(D9>10%,$I$8,$I$9))))) -> Labai aukštas | I9: Labai žemas | K9: 0% | L9: - | M9: =10%
B10: VI. | C10: INTERESŲ KONFLIKTŲ VALDYMAS IR DOVANŲ POLITIKOS ĮGYVENDINIMAS | D10: =SKAICIUOKLE!I72 -> 0.9 | F10: =IF(D10="-","-",IF(D10>90%,$I$5,IF(D10>70%,$I$6,IF(D10>40%,$I$7,IF(D10>10%,$I$8,$I$9))))) -> Aukštas
B11: VII. | C11: ASMENŲ PATIKRINIMAS | D11: =SKAICIUOKLE!I87 -> 0.8 | F11: =IF(D11="-","-",IF(D11>90%,$I$5,IF(D11>70%,$I$6,IF(D11>40%,$I$7,IF(D11>10%,$I$8,$I$9))))) -> Aukštas
B12: VIII. | C12: VIEŠIEJI PIRKIMAI | D12: =SKAICIUOKLE!I98 -> 0.85 | F12: =IF(D12="-","-",IF(D12>90%,$I$5,IF(D12>70%,$I$6,IF(D12>40%,$I$7,IF(D12>10%,$I$8,$I$9))))) -> Aukštas
B13: IX. | C13: KORUPCIJOS PREVENCIJOS PROGRAMOS IR ĮGYVENDINIMO PLANAI | D13: =SKAICIUOKLE!I111 -> 1 | F13: =IF(D13="-","-",IF(D13>90%,$I$5,IF(D13>70%,$I$6,IF(D13>40%,$I$7,IF(D13>10%,$I$8,$I$9))))) -> Labai aukštas
B14: X. | C14: VIDAUS AUDITAS IR VIDINIAI TYRIMAI | D14: =SKAICIUOKLE!I126 -> 1 | F14: =IF(D14="-","-",IF(D14>90%,$I$5,IF(D14>70%,$I$6,IF(D14>40%,$I$7,IF(D14>10%,$I$8,$I$9))))) -> Labai aukštas
B15: XI. | C15: PROCESAI IR SKAITMENIZACIJA | D15: =SKAICIUOKLE!I141 -> 0.825 | F15: =IF(D15="-","-",IF(D15>90%,$I$5,IF(D15>70%,$I$6,IF(D15>40%,$I$7,IF(D15>10%,$I$8,$I$9))))) -> Aukštas
C17: BENDRAS AKL | D17: =IF(ISERROR(SKAICIUOKLE!I3),"-",SKAICIUOKLE!I3) -> 0.93181818 | F17: =IF(D17="-","-",IF(D17>90%,$I$5,IF(D17>70%,$I$6,IF(D17>40%,$I$7,IF(D17>10%,$I$8,$I$9))))) -> Labai aukštas

Sheet RODIKLIAI
A1: AKL RODIKLIAI
A2: I. | B2: SKAIDRUMO KULTŪRA
A3: R.1.1 | B3: Klientų pasitikėjimo įstaiga rodiklis | D3: =IF(INPUT!I180="-","-",INPUT!I180) -> 28
A4: R.1.2 | B4: Tolerancijos korupcijai rodiklis | D4: =IF(INPUT!I181="-","-",INPUT!I181) -> 0.85
A5: R.1.3 | B5: Susitikimų reigstre užregistruotų susitikimų skaičius, vnt. | D5: =IF(INPUT!I182="-","-",INPUT!I182) -> 0
A6: R.1.4 | B6: Mokymų valandų (korupcijos prevencijos klausimais) vienam darbuotojui skaičius, val. | D6: =IF(INPUT!I183="-","-",INPUT!I183) -> 2
A7: II. | B7: RIZIKŲ VALDYMAS
A8: R.2.1 | B8: Pateiktų ir pagrįstų nusiskundimų skaičius | D8: =IF(INPUT!I196="-","-",INPUT!I196) -> Nematuojamas
A9: R.2.2 | B9: Įvykusių incidentų ir parengtų rekomendacijų, siekiant užkardyti skundus, skaičius | D9: =IF(INPUT!I197="-","-",INPUT!I197) -> Nematuojama
A10: R.2.3 | B10: Nustatytų ir sumažintų netoleruotinų rizikų skaičiaus santykis | D10: =IF(INPUT!I198="-","-",INPUT!I198) -> 2025 metais nustatyta 5 labai didelio ir didelio reikšmingumo rizikos. Įgyvendinus numatytus rizikų valdymo planus, per ataskaitinį laikotarpį visos šios rizikos buvo sėkmingai suvaldytos: jų reikšmingumo lygis sumažėjo 4–5 balais, o rizikos iš didelio reikšmingumo kategorijos perkeltos į vidutinio reikšmingumo kategoriją.
A11: III. | B11: PRANEŠĖJŲ APSAUGA
A12: R.3.1 | B12: Pranešimų kanalais gautų pranešimų dėl korupcinių atvejų skaičius, vnt. | D12: =IF(INPUT!I211="-","-",INPUT!I211) -> 0
A13: R.3.2 | B13: Aptiktų ir kompetetingoms įstaigoms pateiktų ir savarankiškai ištirtų galimos korupcijos, sukčiavimų, interesų konfliktų ar kitų piktnaudžiavimo atvejų skaičius, vnt. | D13: =IF(INPUT!I212="-","-",INPUT!I212) -> 3
A14: IV. | B14: TEISĖKŪROS TOBULINIMAS
A15: R.4.1 | B15: Nustatytų ir pašalintų teisinių spragų ar neatitikčių skaičius | D15: =IF(INPUT!I224="-","-",INPUT!I224) -> 0
A16: V. | B16: ESAMO ARBA POTENCIALAUS TIEKĖJO PATIKRA
A17: R.5.1 | B17: Tiekėjų, kurie turi būti tikrinami ir tiekėjai, kurie patikrinti, skaičius | D17: =IF(INPUT!I234="-","-",INPUT!I234) -> Tikrinamas 100 proc. tiekėjų
A18: VI. | B18: INTERESŲ KONFLIKTŲ VALDYMAS IR DOVANŲ POLITIKOS ĮGYVENDINIMAS
A19: R.6.1 | B19: Darbuotojų, kurie privalo deklaruoti privačius interesus, skaičius, vnt. | D19: =IF(INPUT!I247="-","-",INPUT!I247) -> 116
A20: R.6.2 | B20: Užregistruotų nusišalinimų dėl interesų konfliktų situacijų skaičius, vnt. | D20: =IF(INPUT!I248="-","-",INPUT!I248) -> 2
A21: R.6.3 | B21: Dovanų registre užregistruotų dovanų skaičius, vnt. | D21: =IF(INPUT!I249="-","-",INPUT!I249) -> 0
A22: VII. | B22: ASMENŲ PATIKRINIMAS
A23: R.7.1 | B23: Pareigybių, dėl kurių kreipiamasi į STT pateikti informaciją, skaičius | D23: =IF(INPUT!I259="-","-",INPUT!I259) -> 7
A24: R.7.2 | B24: Prašymų, kad STT pateiktų informaciją apie asmenį pagal KPĮ 9 ar 91 str., skaičius, vnt. | D24: =IF(INPUT!I260="-","-",INPUT!I260) -> 7
A25: VIII. | B25: VIEŠIEJI PIRKIMAI
A26: R.8.1 | B26: Kiek procentų nuo visų viešųjų pirkimų kiekio per paskutinius vienerius metus buvo vykdomi pirkimai iš vieno tiekėjo? | D26: =IF(INPUT!I271="-","-",INPUT!I271) -> Nematuojamas
A27: R.8.2 | B27: Per paskutinius vienerius metus gautų pagrįstų pretenzijų skaičius | D27: =IF(INPUT!I272="-","-",INPUT!I272) -> 0
A28: R.8.3 | B28: Kiek procentų nuo visų viešųjų pirkimų kiekio per paskutinius vienerius metus buvo vykdomi skelbiami pirkimai? | D28: =IF(INPUT!I273="-","-",INPUT!I273) -> 20 proc.
A29: IX. | B29: KORUPCIJOS PREVENCIJOS PROGRAMOS IR ĮGYVENDINIMO PLANAI
A30: R.9.1 | B30: Įgyvendintų priemonių, numatytų ankstesnio laikotarpio korupcijos prevencijos programoje, skaičius | D30: =IF(INPUT!I286="-","-",INPUT!I286) -> 6 vnt.
A31: R.9.2 | B31: Įgyvendintų priemonių, numatytų ankstesnio laikotarpio korupcijos prevencijos programoje, procentinė dalis nuo visų numatytų priemonių skaičiaus | D31: =IF(INPUT!I287="-","-",INPUT!I287) -> 100
A32: R.9.3 | B32: Šiuo metu galiojančioje korupcijos prevencijos programoje numatytų priemonių, kurios atkartoja teisės aktų nuostas ir jų reikalavimus, procentinė dalis nuo visų programoje numatytų priemonių skaičiaus | D32: =IF(INPUT!I288="-","-",INPUT!I288) -> 0
A33: X. | B33: VIDAUS AUDITAS IR VIDINIAI TYRIMAI
A34: R.10.1 | B34: Kasmet audituojamų procesų dalis organizacijoje, proc. | D34: =IF(INPUT!I301="-","-",INPUT!I301) -> Nematuojamas
A35: R.10.2 | B35: Įgyvendintų vidaus kontrolių tobulinimo planų dalis, proc. | D35: =IF(INPUT!I302="-","-",INPUT!I302) -> 100
A36: R.10.3 | B36: Vidaus auditų rezultatų pristatymas aukščiausiajai vadovybei | D36: =IF(INPUT!I303="-","-",INPUT!I303) -> Nematuojamas
A37: XI. | B37: PROCESAI IR SKAITMENIZACIJA
A38: R.11.1 | B38: Sistemų, naudojamų viršuje minėtų procesų vykdymui, skaičius. | D38: =IF(INPUT!I313="-","-",INPUT!I313) -> 6 vnt. Leidimų kirsti mišką posistemė (LKMP), Privačių valdų projektai (PVP), Dokumnetų valdymo bendroji IS (DBSIS), Genetinių miško medžių išteklių IS (GMMIIS), Abiotinių veiksnių žurnalas, Nacionalinės miškų inventorizacijos IS (NMIIS)
A39: R.11.2 | B39: IT (licenzijos, aptarnavimas, IT darbuotojai) išlaidų ir bendrų išlaidų santykis. | D39: =IF(INPUT!I314="-","-",INPUT!I314) -> Nematuojama

Sheet SKAICIUOKLE
B2: Klausimas | C2: 0 | D2: 0.5 | E2: 1 | F2: Koef | I2: Balas | J2: Klausimo aktualumas | K2: Pastabos
A3: ATSPARUMO KORUPCIJAI LYGMUO (AKL) | I3: =AVERAGE(I4,I21,I36,I50,I62,I72,I87,I98,I111,I126,I141) -> 0.93181818
A4: I. | B4: SKAIDRUMO KULTŪRA | I4: =IF(I5="-","-",(G5*I5+G6*I6+G7*I7+G8*I8+G9*I9+G10*I10+G11*I11+G12*I12+G13*I13+G14*I14+G15*I15)/SUM(G5:G15)) -> 1
A5: 1.1 | B5: Ar įstaigoje yra patvirtinta korupcijos prevencijos politika? | C5: Ne | D5: Iš dalies (pastabose nurodykite, kodėl pasirinktas atsakymas iš dalies; jei dokumentas pasiekiamas internete - pateikite nuorodą) | E5: Taip (pastabose nurodykite dokumento pavadinimą ir datą, kada toks dokumentas buvo patvirtintas; jei dokumentas pasiekiamas internete - pateikite nuorodą) | F5: 0.1 | G5: =IF(J5="Neaktualu",0,F5) -> 0.1 | I5: =IF(INPUT!I168="-","-",INPUT!I168/2) -> 1
A6: 1.2 | B6: Ar įstaigoje patvirtintas Etikos (Elgesio) kodeksas? | C6: Ne | D6: Iš dalies (pastabose nurodykite, kodėl pasirinktas atsakymas iš dalies; jei dokumentas pasiekiamas internete - pateikite nuorodą) | E6: Taip (pastabose nurodykite dokumento pavadinimą ir datą, kada toks dokumentas buvo patvirtintas; jei dokumentas pasiekiamas internete - pateikite nuorodą) | F6: 0.1 | G6: =IF(J6="Neaktualu",0,F6) -> 0.1 | I6: =IF(INPUT!I169="-","-",INPUT!I169/2) -> 1
A7: 1.3 | B7: Ar periodiškai organizuojamas visų įstaigos darbuotojų antikorupcinis švietimas bei sudaromi mokymų planai? | C7: Ne | D7: Iš dalies (pastabose nurodykite, kodėl pasirinktas atsakymas iš dalies) | E7: Taip (pastabose nurodykite per paskutinius metus vykusius mokymus (nurodant datą ir kam jie buvo skirti) bei kaip sudaromi mokymų planai) | F7: 0.1 | G7: =IF(J7="Neaktualu",0,F7) -> 0.1 | I7: =IF(INPUT!I170="-","-",INPUT!I170/2) -> 1
A8: 1.4 | B8: Ar įstaigos darbuotojai supažindinami su nuasmenintais vidiniais tyrimais / incidentais, su rekomendacijomis, kaip reikėtų elgtis, kad panašūs pažeidimai nepasikartotų? | C8: Ne | D8: Iš dalies (pastabose nurodykite, kodėl pasirinktas atsakymas iš dalies) | E8: Taip (pastabose nurodykite kaip darbuotojai supažindinami ir kada paskutinį kartą darbuotojams buvo pristatyta tokio pobūdžio informacija) | F8: 0.05 | G8: =IF(J8="Neaktualu",0,F8) -> 0.05 | I8: =IF(INPUT!I171="-","-",INPUT!I171/2) -> 1
A9: 1.5 | B9: Ar šiuo metu įstaigos darbuotojai yra supažindinti su įstaigoje taikoma antikorupcine politika (arba su taikomais principais)? | C9: Ne | D9: Iš dalies (pastabose nurodykite, kodėl pasirinktas atsakymas iš dalies) | E9: Taip, visi (arba didžioji dalis) darbuotojai yra supažindinti (pastabose nurodykite, kokiais būdais ir kaip dažnai darbuotojai supažindinami) | F9: 0.15 | G9: =IF(J9="Neaktualu",0,F9) -> 0.15 | I9: =IF(INPUT!I172="-","-",INPUT!I172/2) -> 1
A10: 1.6 | B10: Ar antikorupcinio informavimo, antikorupcinio švietimo organizavimo funkcija priskirta konkrečiam asmeniui ar padaliniui? | C10: Ne | D10: Iš dalies (pastabose nurodykite, kodėl pasirinktas atsakymas iš dalies) | E10: Taip (pastabose nurodykite tokio asmens pareigybes arba padalinio pavadinimą) | F10: 0.1 | G10: =IF(J10="Neaktualu",0,F10) -> 0.1 | I10: =IF(INPUT!I173="-","-",INPUT!I173/2) -> 1
A11: 1.7 | B11: Ar kasmet vykdomas visų už korupcijos prevenciją atsakingų asmenų kvalifikacijos kėlimas antikorupcinėje srityje? | C11: Ne (arba įstaigoje tokie asmenys nepaskirti) | D11: Iš dalies (pastabose nurodykite, kodėl pasirinktas atsakymas iš dalies) | E11: Taip (pastabose nurodykite, per paskutinius metus vykusius mokymus (data ir mokymų tema) | F11: 0.05 | G11: =IF(J11="Neaktualu",0,F11) -> 0.05 | I11: =IF(INPUT!I174="-","-",INPUT!I174/2) -> 1
A12: 1.8 | B12: Ar įstaigoje yra nustatyta susitikimų registravimo tvarka bei jos pagrindu pildomas susitikimų registras? | C12: Ne | D12: Iš dalies (pastabose nurodykite, kodėl pasirinktas atsakymas iš dalies) | E12: Taip (pastabose nurodykite dokumento pavadinimą, kuriame nustatyta) | F12: 0.05 | G12: =IF(J12="Neaktualu",0,F12) -> 0.05 | I12: =IF(INPUT!I175="-","-",INPUT!I175/2) -> 1
A13: 1.9 | B13: Ar įstaigos interneto svetainėje yra atskira skiltis, skirta korupcijos prevencijai, bei ši skiltis yra savalaikiai peržiūrima ir pagal poreikį atnaujinama (pateikiama teisinga ir aktuali informacija)? | C13: Ne (arba įstaiga neturi savo interneto svetainės) | D13: Iš dalies (pastabose nurodykite, kodėl pasirinktas atsakymas iš dalies) | E13: Taip (pastabose pateikite nuorodą į atitinkamą skiltį) | F13: 0.1 | G13: =IF(J13="Neaktualu",0,F13) -> 0.1 | I13: =IF(INPUT!I176="-","-",INPUT!I176/2) -> 1
A14: 1.10 | B14: Ar tiekėjai yra supažindinami su įstaigoje taikomomis atsparumo korupcijai politikomis, tvarkomis ar reikalavimais tiekėjams? | C14: Ne | D14: Iš dalies (pastabose nurodykite, kodėl pasirinktas atsakymas iš dalies) | E14: Taip, visi reikšmingiausi tiekėjai yra supažindinami (pastabose nurodykite, kaip ir kokioms priemonėmis tiekėjai yra supažindinami) | F14: 0.1 | G14: =IF(J14="Neaktualu",0,F14) -> 0.1 | I14: =IF(INPUT!I177="-","-",INPUT!I177/2) -> 1
A15: 1.11 | B15: Ar įstaigoje kasmet vykdomas darbuotojų tolerancijos korupcijai tyrimas/apklausa? | C15: Ne | D15: Iš dalies (dalyvauja mažuma darbuotojų (<25 proc.) arba vykdoma rečiau nei kas 3 metus) (pastabose nurodykite kada paskutinį kartą tokia apklausa buvo organizuota ir kokia dalis darbuotojų pateikė atsakymus) | E15: Taip (pastabose nurodykite, kada paskutinį kartą tokia apklausa buvo organizuota bei kokia dalis darbuotojų pateikė atsakymus) | F15: 0.1 | G15: =IF(J15="Neaktualu",0,F15) -> 0.1 | I15: =IF(INPUT!I178="-","-",INPUT!I178/2) -> 1
B16: RODIKLIAI
A17: R.1.1 | B17: Klientų pasitikėjimo įstaiga rodiklis | I17: =IF(INPUT!I180="-","-",INPUT!I180) -> 28
A18: R.1.2 | B18: Tolerancijos korupcijai rodiklis | I18: =IF(INPUT!I181="-","-",INPUT!I181) -> 0.85
A19: R.1.3 | B19: Susitikimų reigstre užregistruotų susitikimų skaičius, vnt. | I19: =IF(INPUT!I182="-","-",INPUT!I182) -> 0
A20: R.1.4 | B20: Mokymų valandų (korupcijos prevencijos klausimais) vienam darbuotojui skaičius, val. | I20: =IF(INPUT!I183="-","-",INPUT!I183) -> 2
A21: II. | B21: RIZIKŲ VALDYMAS | I21: =IF(I22="-","-",(G22*I22+G23*I23+G24*I24+G25*I25+G26*I26+G27*I27+G28*I28+G29*I29+G30*I30+G31*I31)/SUM(G22:G31)) -> 0.975
A22: 2.1 | B22: Ar įstaiga turi pasitvirtinusi Rizikų valdymo politiką? | C22: Ne | D22: Iš dalies (pastabose nurodykite, kodėl pasirinktas atsakymas iš dalies; jei dokumentas pasiekiamas internete - pateikite nuorodą) | E22: Taip (pastabose nurodykite dokumento pavadinimą ir datą, kada toks dokumentas buvo patvirtintas; jei dokumentas pasiekiamas internete - pateikite nuorodą) | F22: 0.2 | G22: =IF(J22="Neaktualu",0,F22) -> 0.2 | I22: =IF(INPUT!I185="-","-",INPUT!I185/2) -> 1
A23: 2.2 | B23: Ar identifikuotos įstaigos vykdomos funkcijos ir / arba procesai, kuriuose nustatytas netoleruotinas rizikos lygis? | C23: Ne | D23: Iš dalies (jeigu įvertinta daugiau 10 proc., bet ne daugiau kaip 80 proc. Įstaigos vykdomų funkcijų) | E23: Taip (jeigu ivertinta daugiau kaip 80 proc. Įstaigos vykdomų funkcijų) | F23: 0.15 | G23: =IF(J23="Neaktualu",0,F23) -> 0.15 | I23: =IF(INPUT!I186="-","-",INPUT!I186/2) -> 1
A24: 2.3 | B24: Ar nustatytoms netoleruotinoms rizikoms yra taikomos priemonės joms valdyti ir / arba sumažinti? | C24: Ne | D24: Iš dalies (pastabose nurodykite, kodėl pasirinktas atsakymas iš dalies) | E24: Taip (pastabose nurodykite dokumento pavadinimą / registracijos datą arba pateikite nuorodą į registrą) | F24: 0.05 | G24: =IF(J24="Neaktualu",0,F24) -> 0.05 | I24: =IF(INPUT!I187="-","-",INPUT!I187/2) -> 1
A25: 2.4 | B25: Ar rizikų vertinimo procese yra atskirai vertinamos korupcijos / neteisėtos veikos rizikos? | C25: Ne | D25: Iš dalies (pastabose nurodykite, kodėl pasirinktas atsakymas iš dalies) | E25: Taip (pastabose nurodykite dokumento pavadinimą / registracijos datą arba pateikite nuorodą į atlikto vertinimo ataskaitą) | F25: 0.05 | G25: =IF(J25="Neaktualu",0,F25) -> 0.05 | I25: =IF(INPUT!I188="-","-",INPUT!I188/2) -> 1
A26: 2.5 | B26: Ar nustatytoms rizikoms valdyti yra paskirtas kompetetingas asmuo (rizikos šeimininkas)? | C26: Ne | D26: Iš dalies (pastabose nurodykite, kodėl pasirinktas atsakymas iš dalies) | E26: Taip (pastabose nurodykite, kokiam asmeniui ar padaliniui priskirta ši funkcija) | F26: 0.1 | G26: =IF(J26="Neaktualu",0,F26) -> 0.1 | I26: =IF(INPUT!I189="-","-",INPUT!I189/2) -> 1
A27: 2.6 | B27: Ar įstaigoje yra sukurtas įrankis, kurio pagalba darbuotojai atsakingam asmeniui galėtų pranešti apie egzistuojančias arba numanomas rizikas? | C27: Ne | D27: Iš dalies (pastabose nurodykite, kodėl pasirinktas atsakymas iš dalies) | E27: Taip (pastabose nurodykite, kodėl pasirinktas atsakymas taip) | F27: 0.05 | G27: =IF(J27="Neaktualu",0,F27) -> 0.05 | I27: =IF(INPUT!I190="-","-",INPUT!I190/2) -> 1
A28: 2.7 | B28: Ar sudarytas įstaigoje egzistuojančių rizikų žemėlapis? | C28: Ne | D28: Iš dalies (pastabose nurodykite, kodėl pasirinktas atsakymas iš dalies; jei dokumentas pasiekiamas - pateikite nuorodą) | E28: Taip (pastabose nurodykite, kodėl pasirinktas atsakymas taip) | F28: 0.15 | G28: =IF(J28="Neaktualu",0,F28) -> 0.15 | I28: =IF(INPUT!I191="-","-",INPUT!I191/2) -> 1
A29: 2.8 | B29: Ar sudarytas egzistuojančių rizikų žemėlapis peržiūrimas bent kartą į metus? | C29: Ne | D29: Iš dalies (pastabose nurodykite, kodėl pasirinktas atsakymas iš dalies) | E29: Taip (pastabose nurodykite, kodėl pasirinktas atsakymas taip) | F29: 0.05 | G29: =IF(J29="Neaktualu",0,F29) -> 0.05 | I29: =IF(INPUT!I192="-","-",INPUT!I192/2) -> 1
A30: 2.9 | B30: Ar bent kartą metuose vykdomi mokymai apie rizikų identifikavimą ir jų valdymą? | C30: Ne | D30: Iš dalies (pastabose nurodykite, kodėl pasirinktas atsakymas iš dalies) | E30: Taip (pastabose nurodykite, kodėl pasirinktas atsakymas taip) | F30: 0.15 | G30: =IF(J30="Neaktualu",0,F30) -> 0.15 | I30: =IF(INPUT!I193="-","-",INPUT!I193/2) -> 1
A31: 2.10 | B31: Ar teisės aktuose nustatyta tvarka kasmet atliekama korupcijos pasireiškimo tikimybė? | C31: Ne | D31: Iš dalies (pastabose nurodykite, kodėl pasirinktas atsakymas iš dalies) | E31: Taip (pastabose nurodykite, kodėl pasirinktas atsakymas taip) | F31: 0.05 | G31: =IF(J31="Neaktualu",0,F31) -> 0.05 | I31: =IF(INPUT!I194="-","-",INPUT!I194/2) -> 0.5
B32: RODIKLIAI
A33: R.2.1 | B33: Pateiktų ir pagrįstų nusiskundimų skaičius | I33: =IF(INPUT!I196="-","-",INPUT!I196) -> Nematuojamas
A34: R.2.2 | B34: Įvykusių incidentų ir parengtų rekomendacijų, siekiant užkardyti skundus, skaičius | I34: =IF(INPUT!I197="-","-",INPUT!I197) -> Nematuojama
A35: R.2.3 | B35: Nustatytų ir sumažintų netoleruotinų rizikų skaičiaus santykis | I35: =IF(INPUT!I198="-","-",INPUT!I198) -> 2025 metais nustatyta 5 labai didelio ir didelio reikšmingumo rizikos. Įgyvendinus numatytus rizikų valdymo planus, per ataskaitinį laikotarpį visos šios rizikos buvo sėkmingai suvaldytos: jų reikšmingumo lygis sumažėjo 4–5 balais, o rizikos iš didelio reikšmingumo kategorijos perkeltos į vidutinio reikšmingumo kategoriją.
A36: III. | B36: PRANEŠĖJŲ APSAUGA | I36: =IF(I37="-","-",(G37*I37+G38*I38+G39*I39+G40*I40+G41*I41+G42*I42+G43*I43+G44*I44+G45*I45+G46*I46)/SUM(G37:G46)) -> 0.95
A37: 3.1 | B37: Ar įstaigoje yra nustatyta ir patvirtinta tvarka dėl informacijos apie pažeidimus nagrinėjimą? | C37: Ne | D37: Iš dalies (pastabose nurodykite, kodėl pasirinktas atsakymas iš dalies; jei dokumentas pasiekiamas internete - pateikite nuorodą) | E37: Taip (pastabose nurodykite dokumento pavadinimą ir datą, kada toks dokumentas buvo patvirtintas; jei dokumentas pasiekiamas internete - pateikite nuorodą) | F37: 0.2 | G37: =IF(J37="Neaktualu",0,F37) -> 0.2 | I37: =IF(INPUT!I200="-","-",INPUT!I200/2) -> 1
A38: 3.2 | B38: Ar įstaigoje yra įdiegti ir funkcionuoja vidaus informacijos apie pažeidimus teikimo kanalai (jei yra naudojami įstaigą prižiūrinčios institucijos vidaus kanalai, tuomet atsakyme gali būti vertinami jie)? | C38: Ne | D38: Iš dalies (pastabose nurodykite, kodėl pasirinktas atsakymas iš dalies) | E38: Taip (pastabose nurodykite, kokie kanalai įdiegti bei kas iš įstaigos darbuotojų turi prieigą prie šiais kanalais pateiktos informacijos) | F38: 0.05 | G38: =IF(J38="Neaktualu",0,F38) -> 0.05 | I38: =IF(INPUT!I201="-","-",INPUT!I201/2) -> 1
A39: 3.3 | B39: Ar vidaus informacijos apie pažeidimus teikimo kanaluose nurodyta, kokios yra asmenų, pateikusių informaciją apie pažeidimus, teisės, apsaugos, skatinimo ir pagalbos jiems priemonės, bei kokiu būdu bus teikiamas grįžtamasis ryšys? | C39: Ne (arba tokie kanalai neįdiegti) | D39: Iš dalies (pastabose nurodykite, kodėl pasirinktas atsakymas iš dalies) | E39: Taip (pastabose nurodykyte, kokiais būdais ir kur tokia informacija pateikiama) | F39: 0.05 | G39: =IF(J39="Neaktualu",0,F39) -> 0.05 | I39: =IF(INPUT!I202="-","-",INPUT!I202/2) -> 1
A40: 3.4 | B40: Ar vidaus informacijos apie pažeidimus teikimo kanaluose nurodyta,kas atsakingas už šio kanalo priežiūrą, gauna ir tvarko juo gautą informaciją? | C40: Ne (arba tokie kanalai neįdiegti) | D40: Iš dalies (pastabose nurodykite, kodėl pasirinktas atsakymas iš dalies) | E40: Taip (pastabose nurodykyte, kokiais būdais ir kur tokia informacija pateikiama) | F40: 0.05 | G40: =IF(J40="Neaktualu",0,F40) -> 0.05 | I40: =IF(INPUT!I203="-","-",INPUT!I203/2) -> 1
A41: 3.5 | B41: Ar įstaigos interneto svetainėje yra nurodyta kur galima pranešti apie pastebėtus korupcijos atvejus? | C41: Ne | D41: Iš dalies (pastabose nurodykite, kodėl pasirinktas atsakymas iš dalies) | E41: Taip (pastabose pateikite nuorodą į svetainės skiltį, kurioje galima pranešti apie pastebėtus korupcijos atvejus)) | F41: 0.1 | G41: =IF(J41="Neaktualu",0,F41) -> 0.1 | I41: =IF(INPUT!I204="-","-",INPUT!I204/2) -> 1
A42: 3.6 | B42: Ar įstaigos darbuotojai supažindinti su esamomis galimybėmis (praktikomis, tvarkomis) pranešti apie pastebėtus korupcijos atvejus? | C42: Ne | D42: Iš dalies (pastabose nurodykite, kodėl pasirinktas atsakymas iš dalies) | E42: Taip, visi (arba didžioji dalis) darbuotojai yra supažindinti (pastabose nurodykite, kokiais būdais ir kaip dažnai darbuotojai supažindinami) | F42: 0.1 | G42: =IF(J42="Neaktualu",0,F42) -> 0.1 | I42: =IF(INPUT!I205="-","-",INPUT!I205/2) -> 1
A43: 3.7 | B43: Ar įstaigoje yra taikomos motyvacinės priemonės, skatinančios darbuotojus pranešti apie korupcinio pobūdžio ar kitus pažeidimus? | C43: Ne | D43: Iš dalies (pastabose nurodykite, kodėl pasirinktas atsakymas iš dalies) | E43: Taip (pastabose nurodykite kokios priemonės yra numatytos ir kaip dažnai jos yra panadojamos) | F43: 0.05 | G43: =IF(J43="Neaktualu",0,F43) -> 0.05 | I43: =IF(INPUT!I206="-","-",INPUT!I206/2) -> 0
A44: 3.8 | B44: Ar paskirtas kompetentingas asmuo ar padalinys, atsakingas už informacijos gavimo kanalų priežiūrą (jei toks asmuo yra priskirtas įstaigą prižiūrinčioje institucijoje, tuomet atsakyme gali būti vertinamas tos institucijos atsakingas asmuo)? | C44: Ne | D44: Iš dalies (pastabose nurodykite, kodėl pasirinktas atsakymas iš dalies) | E44: Taip (pastabose nurodykite tokio asmens pareigybes ir nurodykite šio asmens kompetencijas/kvalifikacijas korupcijos prevencijos srityje) | F44: 0.15 | G44: =IF(J44="Neaktualu",0,F44) -> 0.15 | I44: =IF(INPUT!I207="-","-",INPUT!I207/2) -> 1
A45: 3.9 | B45: Ar per paskutinius metus įstaigoje buvo gauta pranešimų apie pastebėtus galimus korupcijos atvejus ar kitus pažeidimus? | C45: Ne | D45: Iš dalies (pastabose nurodykite, kodėl pasirinktas atsakymas iš dalies) | E45: Taip (pastabose nurodykite paskutinių trijų metų duomenis - kiekvienais metais gautų ir užregistruotų pranešimų skaičių) | F45: 0.15 | G45: =IF(J45="Neaktualu",0,F45) -> 0.15 | I45: =IF(INPUT!I208="-","-",INPUT!I208/2) -> 1
A46: 3.10 | B46: Ar įstaigoje gauti pranešimai yra nagrinėjami (tiriami), siekiant nustatyti ir įvertinti užregistruotą pažeidimą? | C46: Ne | D46: Iš dalies (pastabose nurodykite, kodėl pasirinktas atsakymas iš dalies) | E46: Taip (arba jie perduodami nagrinėti kompetentingoms institucijoms) (pastabose nurodykite kiek per paskutinius tris metus buvo išnagrinėta (arba perduota institucijoms) pranešimų apie pažeidimus) | F46: 0.1 | G46: =IF(J46="Neaktualu",0,F46) -> 0.1 | I46: =IF(INPUT!I209="-","-",INPUT!I209/2) -> 1
B47: RODIKLIAI
A48: R.3.1 | B48: Pranešimų kanalais gautų pranešimų dėl korupcinių atvejų skaičius, vnt. | I48: =IF(INPUT!I211="-","-",INPUT!I211) -> 0
A49: R.3.2 | B49: Aptiktų ir kompetetingoms įstaigoms pateiktų ir savarankiškai ištirtų galimos korupcijos, sukčiavimų, interesų konfliktų ar kitų piktnaudžiavimo atvejų skaičius, vnt. | I49: =IF(INPUT!I212="-","-",INPUT!I212) -> 3
A50: IV. | B50: TEISĖKŪROS TOBULINIMAS | I50: =IF(I51="-","-",(G51*I51+G52*I52+G53*I53+G54*I54+G55*I55+G56*I56+G57*I57+G58*I58+G59*I59)/SUM(G51:G59)) -> 0.95
A51: 4.1 | B51: Ar kasmet sudaromas teisės aktų sąrašas, kuriuos planuojama pakeisti einamaisiais metais? | C51: Ne | D51: Iš dalies (pastabose nurodykite, kodėl pasirinktas atsakymas iš dalies; jei dokumentas pasiekiamas internete - pateikite nuorodą) | E51: Taip (pastabose nurodykite dokumento pavadinimą ir datą, kada toks dokumentas buvo patvirtintas; jei dokumentas pasiekiamas internete - pateikite nuorodą) | F51: 0.1 | G51: =IF(J51="Neaktualu",0,F51) -> 0.1 | I51: =IF(INPUT!I214="-","-",INPUT!I214/2) -> 0.5
A52: 4.2 | B52: Ar keičiamų teisės aktų sąrašas skelbiamas viešai? | C52: Ne | D52: Iš dalies (pastabose nurodykite, kodėl pasirinktas atsakymas iš dalies) | E52: Taip (pateikite nuorodą į viešai paskelbtą dokumentą) | F52: 0.1 | G52: =IF(J52="Neaktualu",0,F52) -> 0.1 | I52: =IF(INPUT!I215="-","-",INPUT!I215/2) -> 1
A53: 4.3 | B53: Ar įstaigoje yra sukurtas įrankis, kurio pagalba asmenys galėtų pateikti siūlymus keisti teisės aktus? | C53: Ne | D53: Iš dalies (pastabose nurodykite, kodėl pasirinktas atsakymas iš dalies) | E53: Taip (pastabose pateikite nuorodą į sukurtą įrankį) | F53: 0.2 | G53: =IF(J53="Neaktualu",0,F53) -> 0.2 | I53: =IF(INPUT!I216="-","-",INPUT!I216/2) -> 1
A54: 4.4 | B54: Ar pagal KPĮ 8 straipsnį ir LRV taisykles atliekamas įstaigos keičiamų teisės aktų projektų antikorupcinis vertinimas? | C54: Ne | D54: Iš dalies (pastabose nurodykite, kodėl pasirinktas atsakymas iš dalies) | E54: Taip (pastabose nurodykite dokumento pavadinimą / registracijos datą arba pateikite nuorodą į atlikto vertinimo ataskaitą) | F54: 0.2 | G54: =IF(J54="Neaktualu",0,F54) -> 0.2 | I54: =IF(INPUT!I217="-","-",INPUT!I217/2) -> 1
A55: 4.5 | B55: Ar teisės aktų projektų antikorupcinį vertinimą atlieka asmuo, kuris nėra teisės aktų projektų rengėjas? | C55: Ne | D55: Iš dalies (pastabose nurodykite, kodėl pasirinktas atsakymas iš dalies) | E55: Taip (pastabose nurodykite, kokiam asmeniui ar padaliniui priskirta ši funkcija) | F55: 0.05 | G55: =IF(J55="Neaktualu",0,F55) -> 0.05 | I55: =IF(INPUT!I218="-","-",INPUT!I218/2) -> 1
A56: 4.6 | B56: Ar antikorupcinis vertinimas atliekamas pagal antikorupcinio vertinimo pažymoje nustatytus kriterijus? | C56: Ne | D56: Iš dalies (pastabose nurodykite, kodėl pasirinktas atsakymas iš dalies) | E56: Taip (pastabose nurodykite, kodėl pasirinktas atsakymas taip) | F56: 0.1 | G56: =IF(J56="Neaktualu",0,F56) -> 0.1 | I56: =IF(INPUT!I219="-","-",INPUT!I219/2) -> 1
A57: 4.7 | B57: Ar teisės akto projekto rengėjas atsižvelgia ir / arba pagrįstai atmeta teisės aktų projekto antikorupcinio vertinimo pažymoje pateiktas pastabas? | C57: Ne | D57: Iš dalies (pastabose nurodykite, kodėl pasirinktas atsakymas iš dalies) | E57: Taip (pastabose nurodykite, kodėl pasirinktas atsakymas taip) | F57: 0.15 | G57: =IF(J57="Neaktualu",0,F57) -> 0.15 | I57: =IF(INPUT!I220="-","-",INPUT!I220/2) -> 1
A58: 4.8 | B58: Ar antikorupcinio vertinimo pažymos skelbiamos viešai? | C58: Ne | D58: Iš dalies (pastabose nurodykite, kodėl pasirinktas atsakymas iš dalies) | E58: Taip (pateikite nuorodą į viešai paskelbtus dokumentus) | F58: 0.05 | G58: =IF(J58="Neaktualu",0,F58) -> 0.05 | I58: =IF(INPUT!I221="-","-",INPUT!I221/2) -> 1
A59: 4.9 | B59: Ar piliečiai įtraukiami į teisės aktų kūrimą ir jų tobulinimą (TA derinami numatyta tvarka ir terminais TAIS'e)? | C59: Ne | D59: Iš dalies (pastabose nurodykite, kodėl pasirinktas atsakymas iš dalies) | E59: Taip (pastabose nurodykite, kodėl pasirinktas atsakymas taip) | F59: 0.05 | G59: =IF(J59="Neaktualu",0,F59) -> 0.05 | I59: =IF(INPUT!I222="-","-",INPUT!I222/2) -> 1
B60: RODIKLIAI
A61: R.4.1 | B61: Nustatytų ir pašalintų teisinių spragų ar neatitikčių skaičius | I61: =IF(INPUT!I224="-","-",INPUT!I224) -> 0
A62: V. | B62: ESAMO ARBA POTENCIALAUS TIEKĖJO PATIKRA | I62: =IF(I63="-","-",(G63*I63+G64*I64+G65*I65+G66*I66+G67*I67+G68*I68+G69*I69)/SUM(G63:G69)) -> 1
A63: 5.1 | B63: Ar įstaigoje nustatyta esamo arba potencialaus tiekėjo patikrinimo tvarka? | C63: Ne | D63: Iš dalies (pastabose nurodykite, kodėl pasirinktas atsakymas iš dalies; jei dokumentas pasiekiamas internete - pateikite nuorodą) | E63: Taip (pastabose nurodykite dokumento pavadinimą ir datą, kada toks dokumentas buvo patvirtintas; jei dokumentas pasiekiamas internete - pateikite nuorodą) | F63: 0.2 | G63: =IF(J63="Neaktualu",0,F63) -> 0.2 | I63: =IF(INPUT!I226="-","-",INPUT!I226/2) -> 1
A64: 5.2 | B64: Ar nustatyti kriterijai, kada atliekama esamo arba potencialaus tiekėjo patikra ? | C64: Ne | D64: Iš dalies (pastabose nurodykite, kodėl pasirinktas atsakymas iš dalies) | E64: Taip (pastabose nurodykite, kodėl pasirinktas atsakymas taip) | F64: 0.1 | G64: =IF(J64="Neaktualu",0,F64) -> 0.1 | I64: =IF(INPUT!I227="-","-",INPUT!I227/2) -> 1
A65: 5.3 | B65: Ar nustatyti kriterijai, kurie bus vertinami (analizuojami) atliekant asmenų patikrą? | C65: Ne | D65: Iš dalies (pastabose nurodykite, kodėl pasirinktas atsakymas iš dalies) | E65: Taip (pastabose nurodykite, kodėl pasirinktas atsakymas taip) | F65: 0.15 | G65: =IF(J65="Neaktualu",0,F65) -> 0.15 | I65: =IF(INPUT!I228="-","-",INPUT!I228/2) -> 1
A66: 5.4 | B66: Ar nustatyti rizikingo (nepatikimo) tiekėjo kriterijai? | C66: Ne | D66: Iš dalies (pastabose nurodykite, kodėl pasirinktas atsakymas iš dalies) | E66: Taip (pastabose nurodykite, kodėl pasirinktas atsakymas taip) | F66: 0.25 | G66: =IF(J66="Neaktualu",0,F66) -> 0.25 | I66: =IF(INPUT!I229="-","-",INPUT!I229/2) -> 1
A67: 5.5 | B67: Ar yra esamo arba potencialaus tiekėjo patikros vykdymo funkcija paskirta konkrečiam asmeniui arba padaliniui, darbo grupei ar komisijai ? | C67: Ne | D67: Iš dalies (pastabose nurodykite, kodėl pasirinktas atsakymas iš dalies) | E67: Taip (pastabose nurodykite, kokiam asmeniui ar padaliniui priskirta ši funkcija) | F67: 0.1 | G67: =IF(J67="Neaktualu",0,F67) -> 0.1 | I67: =IF(INPUT!I230="-","-",INPUT!I230/2) -> 1
A68: 5.6 | B68: Ar su išvada apie nepatikimą / rizikingą tiekėją supažindinami atsakingi įstaigos darbuotojai? | C68: Ne | D68: Iš dalies (pastabose nurodykite, kodėl pasirinktas atsakymas iš dalies) | E68: Taip (pastabose nurodykite, kodėl pasirinktas atsakymas taip) | F68: 0.05 | G68: =IF(J68="Neaktualu",0,F68) -> 0.05 | I68: =IF(INPUT!I231="-","-",INPUT!I231/2) -> 1
A69: 5.7 | B69: Ar nustačius rizikingą tiekėją, imamasi priemonių, prieš sudarant sutartis ar jų vykdymo metu? | C69: Ne | D69: Iš dalies (pastabose nurodykite, kodėl pasirinktas atsakymas iš dalies) | E69: Taip (pastabose nurodykite, kodėl pasirinktas atsakymas taip) | F69: 0.15 | G69: =IF(J69="Neaktualu",0,F69) -> 0.15 | I69: =IF(INPUT!I232="-","-",INPUT!I232/2) -> 1
B70: RODIKLIAI
A71: R.5.1 | B71: Tiekėjų, kurie turi būti tikrinami ir tiekėjai, kurie patikrinti, skaičius | I71: =IF(INPUT!I234="-","-",INPUT!I234) -> Tikrinamas 100 proc. tiekėjų
A72: VI. | B72: INTERESŲ KONFLIKTŲ VALDYMAS IR DOVANŲ POLITIKOS ĮGYVENDINIMAS | I72: =IF(I73="-","-",(G73*I73+G74*I74+G75*I75+G76*I76+G77*I77+G78*I78+G79*I79+G80*I80+G81*I81+G82*I82)/SUM(G73:G82)) -> 0.9
A73: 6.1 | B73: Ar įstaigoje patvirtinta privačių interesų derinimo ir nusišalinimo tvarka? | C73: Ne | D73: Iš dalies (pastabose nurodykite, kodėl pasirinktas atsakymas iš dalies; jei dokumentas pasiekiamas internete - pateikite nuorodą) | E73: Taip (pastabose nurodykite dokumento pavadinimą ir datą, kada toks dokumentas buvo patvirtintas; jei dokumentas pasiekiamas internete - pateikite nuorodą) | F73: 0.1 | G73: =IF(J73="Neaktualu",0,F73) -> 0.1 | I73: =IF(INPUT!I236="-","-",INPUT!I236/2) -> 1
A74: 6.2 | B74: Ar įstaigoje yra sudarytas sąrašas pareigybių, kurias užimantys asmenys privalo deklaruoti privačius interesus? | C74: Ne | D74: Iš dalies (pastabose nurodykite, kodėl pasirinktas atsakymas iš dalies; jei dokumentas pasiekiamas internete - pateikite nuorodą) | E74: Taip (pastabose nurodykite dokumento pavadinimą ir datą, kada toks dokumentas buvo patvirtintas; jei dokumentas pasiekiamas internete - pateikite nuorodą) | F74: 0.05 | G74: =IF(J74="Neaktualu",0,F74) -> 0.05 | I74: =IF(INPUT!I237="-","-",INPUT!I237/2) -> 1
A75: 6.3 | B75: Ar įstaigoje ne rečiau kaip kas 6 mėn. (ar įstaigos nustatytu periodiškumu) tikrinama, ar įstaigos darbuotojai, privalantys deklaruoti interesus, tinkamai ir laiku deklaravo galimus interesų konfliktus? | C75: Ne | D75: Iš dalies (pastabose nurodykite, kodėl pasirinktas atsakymas iš dalies) | E75: Taip (pastabose nurodykite, kas, kokiu būdu ir kokiu periodiškumu tai atlieka) | F75: 0.15 | G75: =IF(J75="Neaktualu",0,F75) -> 0.15 | I75: =IF(INPUT!I238="-","-",INPUT!I238/2) -> 1
A76: 6.4 | B76: Ar įstaigos vadovas ir struktūrinių padalinių vadovai sistemingai supažindinami su pavaldžių asmenų privačių interesų deklaracijų turiniu bei galimais interesų konfliktais? | C76: Ne | D76: Iš dalies (pastabose nurodykite, kodėl pasirinktas atsakymas iš dalies) | E76: Taip (pastabose nurodykite, kaip užtikriniamas sistemingas informavimas ir kas užtikrina, jog šie asmenys būtų informuoti) | F76: 0.1 | G76: =IF(J76="Neaktualu",0,F76) -> 0.1 | I76: =IF(INPUT!I239="-","-",INPUT!I239/2) -> 1
A77: 6.5 | B77: Ar yra paskirtas kompetentingas asmuo, atsakingas už privačių interesų derinimo tvarkos įgyvendinimo priežiūrą? | C77: Ne | D77: Iš dalies (pastabose nurodykite, kodėl pasirinktas atsakymas iš dalies) | E77: Taip (pastabose nurodykite tokio asmens pareigybes ir nurodykite šio asmens kompetencijas/kvalifikacijas korupcijos prevencijos srityje) | F77: 0.15 | G77: =IF(J77="Neaktualu",0,F77) -> 0.15 | I77: =IF(INPUT!I240="-","-",INPUT!I240/2) -> 1
A78: 6.6 | B78: Ar įstaigos darbuotojams ne rečiau kaip kartą į metus yra organizuojami mokymai apie interesų konfliktus bei kaip juos tinkamai valdyti? | C78: Ne | D78: Iš dalies (pastabose nurodykite, kodėl pasirinktas atsakymas iš dalies) | E78: Taip (pastabose nurodykite kiek dažnai ir kaip organizuojami mokymai) | F78: 0.1 | G78: =IF(J78="Neaktualu",0,F78) -> 0.1 | I78: =IF(INPUT!I241="-","-",INPUT!I241/2) -> 1
A79: 6.7 | B79: Ar per paskutinius metus įstaigoje buvo užregistruotų nusišalinimų dėl interesų konfliktų (arba formalizuotai (dokumentuotai) nagrinėti potencialūs konfliktai, kurie nebūtinai pasitvirtino) ? | C79: Ne | D79: Iš dalies (pastabose nurodykite, kodėl pasirinktas atsakymas iš dalies) | E79: Taip (pastabose nurodykite paskutinių trijų metų duomenis - kiekvienais metais užregistruotų nusišalinimų skaičių ir ) formalizuotai vertintų atvejų skaičių) | F79: 0.1 | G79: =IF(J79="Neaktualu",0,F79) -> 0.1 | I79: =IF(INPUT!I242="-","-",INPUT!I242/2) -> 1
A80: 6.8 | B80: Ar įstaigoje patvirtinta dovanų teikimo ir priėmimo politika? | C80: Ne | D80: Iš dalies (pastabose nurodykite, kodėl pasirinktas atsakymas iš dalies; jei dokumentas pasiekiamas internete - pateikite nuorodą) | E80: Taip (pastabose nurodykite dokumento pavadinimą ir datą, kada toks dokumentas buvo patvirtintas; jei dokumentas pasiekiamas internete - pateikite nuorodą) | F80: 0.1 | G80: =IF(J80="Neaktualu",0,F80) -> 0.1 | I80: =IF(INPUT!I243="-","-",INPUT!I243/2) -> 1
A81: 6.9 | B81: Ar dovanos, gautos įstaigoje, yra registruojamos, įvertinamos ir apskaitomos (yra sudarytas dovanų registras)? | C81: Ne | D81: Iš dalies (pastabose nurodykite, kodėl pasirinktas atsakymas iš dalies) | E81: Taip (pastabose nurodykite kokia informacija yra pildoma registre bei kas yra atsakingas už registro priežiūrą) | F81: 0.05 | G81: =IF(J81="Neaktualu",0,F81) -> 0.05 | I81: =IF(INPUT!I244="-","-",INPUT!I244/2) -> 1
A82: 6.10 | B82: Ar per paskutinius metus įstaigos dovanų registre buvo užregistruota gautų dovanų? | C82: Ne | D82: Iš dalies (pastabose nurodykite, kodėl pasirinktas atsakymas iš dalies) | E82: Taip (pastabose nurodykite kiek dovanų buvo užregistruota registre per paskutinius metus) | F82: 0.1 | G82: =IF(J82="Neaktualu",0,F82) -> 0.1 | I82: =IF(INPUT!I245="-","-",INPUT!I245/2) -> 0
B83: RODIKLIAI
A84: R.6.1 | B84: Darbuotojų, kurie privalo deklaruoti privačius interesus, skaičius, vnt. | I84: =IF(INPUT!I247="-","-",INPUT!I247) -> 116
A85: R.6.2 | B85: Užregistruotų nusišalinimų dėl interesų konfliktų situacijų skaičius, vnt. | I85: =IF(INPUT!I248="-","-",INPUT!I248) -> 2
A86: R.6.3 | B86: Dovanų registre užregistruotų dovanų skaičius, vnt. | I86: =IF(INPUT!I249="-","-",INPUT!I249) -> 0
A87: VII. | B87: ASMENŲ PATIKRINIMAS | I87: =IF(I88="-","-",(G88*I88+G89*I89+G90*I90+G91*I91+G92*I92+G93*I93+G94*I94)/SUM(G88:G94)) -> 0.8
A88: 7.1 | B88: Ar sudarytas ir viešai skelbiamas sąrašas pareigybių, dėl kurių numatoma kreiptis į STT pagal KPĮ 9 ir 91 str.? | C88: Ne | D88: Iš dalies (pastabose nurodykite, kodėl pasirinktas atsakymas iš dalies; jei dokumentas pasiekiamas internete - pateikite nuorodą) | E88: Taip (pastabose nurodykite dokumento pavadinimą ir datą, kada toks dokumentas buvo patvirtintas; jei dokumentas pasiekiamas internete - pateikite nuorodą) | F88: 0.2 | G88: =IF(J88="Neaktualu",0,F88) -> 0.2 | I88: =IF(INPUT!I251="-","-",INPUT!I251/2) -> 1
A89: 7.2 | B89: Ar visais atvejais kreipiamasi į STT, kai rašytinio prašymo, kad STT pateiktų informaciją apie asmenį, pateikimas yra privalomas pagal KPĮ 9 ir 91 str.? | C89: Ne | D89: Iš dalies (pastabose nurodykite, kodėl pasirinktas atsakymas iš dalies) | E89: Taip (jei yra galimybė, nurodykite tai reglamentuojančio vidinio teisės akto numerį arba pateikite nuorodą į šį dokumentą) | F89: 0.15 | G89: =IF(J89="Neaktualu",0,F89) -> 0.15 | I89: =IF(INPUT!I252="-","-",INPUT!I252/2) -> 1
A90: 7.3 | B90: Ar yra atvejų, kai kreipiamasi į STT su prašymu pateikti informaciją apie asmenį, kai toks kreipimasis pagal KPĮ 9 ir 91 str., nėra privalomas? | C90: Ne | D90: Iš dalies (pastabose nurodykite, kodėl pasirinktas atsakymas iš dalies) | E90: Taip (pastabose nurodykite dokumento pavadinimą, kuriame nurodoma dėl kokių pareigybių kreipiamąsi, jei yra galimybė - pateikite nuorodą į jį) | F90: 0.1 | G90: =IF(J90="Neaktualu",0,F90) -> 0.1 | I90: =IF(INPUT!I253="-","-",INPUT!I253/2) -> 1
A91: 7.4 | B91: Ar kreipiamasi į STT dėl asmens, kurį ketinama skirti į pareigas laikinai? | C91: Ne | D91: Iš dalies (pastabose nurodykite, kodėl pasirinktas atsakymas iš dalies) | E91: Taip (pastabose nurodykite dokumento pavadinimą, kuriame nurodoma dėl kokių pareigybių kreipiamąsi, jei yra galimybė - pateikite nuorodą į jį) | F91: 0.1 | G91: =IF(J91="Neaktualu",0,F91) -> 0.1 | I91: =IF(INPUT!I254="-","-",INPUT!I254/2) -> 1
A92: 7.5 | B92: Ar kreipiamasi į STT dėl asmens, kurį ketinama skirti dar vienai kadencijai į tas pačias pareigas? | C92: Ne | D92: Iš dalies (pastabose nurodykite, kodėl pasirinktas atsakymas iš dalies) | E92: Taip (pastabose nurodykite dokumento pavadinimą, kuriame nurodoma dėl kokių pareigybių kreipiamąsi, jei yra galimybė - pateikite nuorodą į jį) | F92: 0.1 | G92: =IF(J92="Neaktualu",0,F92) -> 0.1 | I92: =IF(INPUT!I255="-","-",INPUT!I255/2) -> 1
A93: 7.6 | B93: Ar iš STT gauta informacija apie asmenį yra naudojama kitais tikslais, ne tik priimant sprendimą dėl asmens tinkamumo siekiamoms pareigoms ar tarnybinės (drausminės) nuobaudos skyrimo? | C93: Ne | D93: Iš dalies (pastabose nurodykite, kodėl pasirinktas atsakymas iš dalies) | E93: Taip (pastabose nurodykite, kokiems tikslams buvo panaudota iš STT gauta informacija) | F93: 0.2 | G93: =IF(J93="Neaktualu",0,F93) -> 0.2 | I93: =IF(INPUT!I256="-","-",INPUT!I256/2) -> 0
A94: 7.7 | B94: Ar per pastaruosius metus buvo atvejų, kai asmuo buvo skirtas į pareigas negavus atsakymo iš STT (pvz., jei baigiasi terminai)? | C94: Ne | D94: Iš dalies (pastabose nurodykite, kodėl pasirinktas atsakymas iš dalies) | E94: Taip (pastabose nurodykite atvejus ir juos lėmusias aplinkybes) | F94: 0.15 | G94: =IF(J94="Neaktualu",0,F94) -> 0.15 | I94: =IF(INPUT!I257="-","-",INPUT!I257/2) -> 1
B95: RODIKLIAI
A96: R.7.1 | B96: Pareigybių, dėl kurių kreipiamasi į STT pateikti informaciją, skaičius | I96: =IF(INPUT!I259="-","-",INPUT!I259) -> 7
A97: R.7.2 | B97: Prašymų, kad STT pateiktų informaciją apie asmenį pagal KPĮ 9 ar 91 str., skaičius, vnt. | I97: =IF(INPUT!I260="-","-",INPUT!I260) -> 7
A98: VIII. | B98: VIEŠIEJI PIRKIMAI | I98: =IF(I99="-","-",(G99*I99+G100*I100+G101*I101+G102*I102+G103*I103+G104*I104+G105*I105+G106*I106)/SUM(G99:G106)) -> 0.85
A99: 8.1 | B99: Ar įstaiga turi pasitvirtinusi teisės aktą, detaliai reglamentuojantį viešųjų pirkimų (toliau – VP) procedūrą (pirkimų poreikio nustatymą, planavimą, organizavimą ir vykdymą, sutarčių vykdymą ir prevencinę kontrolę)? | C99: Ne | D99: Iš dalies (pastabose nurodykite, kodėl pasirinktas atsakymas iš dalies; jei dokumentas pasiekiamas internete - pateikite nuorodą) | E99: Taip (pastabose nurodykite dokumento pavadinimą ir datą, kada toks dokumentas buvo patvirtintas; jei dokumentas pasiekiamas internete - pateikite nuorodą) | F99: 0.2 | G99: =IF(J99="Neaktualu",0,F99) -> 0.2 | I99: =IF(INPUT!I262="-","-",INPUT!I262/2) -> 1
A100: 8.2 | B100: Ar įstaigoje yra nustatytas VP procese dalyvaujančių (pirkimus inicijuojančių, pirkimus organizuojančių ir (ar) vykdančių ir pirkimus kontroliuojančių) asmenų sąrašas ir šių asmenų teisės ir pareigos? | C100: Ne | D100: Iš dalies (pastabose nurodykite, kodėl pasirinktas atsakymas iš dalies) | E100: Taip (pastabose nurodykite dokumento pavadinimą ir datą, kada sąrašas buvo patvirtintas; jei informacija pasiekiama internete - pateikite nuorodą) | F100: 0.15 | G100: =IF(J100="Neaktualu",0,F100) -> 0.15 | I100: =IF(INPUT!I263="-","-",INPUT!I263/2) -> 1
A101: 8.3 | B101: Ar įstaiga užtikrina, kad VP procese dalyvaujantys asmenys laikytųsi konfidencialumo ir nešališkumo? | C101: Ne | D101: Iš dalies (pastabose nurodykite, kodėl pasirinktas atsakymas iš dalies) | E101: Taip (pastabose nurodykite, kokiu būdu užtikrinamas konfidencialumo ir nešališkumo laikymąsis) | F101: 0.15 | G101: =IF(J101="Neaktualu",0,F101) -> 0.15 | I101: =IF(INPUT!I264="-","-",INPUT!I264/2) -> 1
...

Sheet INPUT
C4: Juridnio asmens pavadinimas | I4: Valstybinė miškų tarnyba
C5: Teisinė forma | I5: Biudžetinė įstaiga
C6: Juridinio asmens kodas | I6: 302471705
C8: Vidutinis metinis darbuotojų skaičius paskutiniais metais | I8: 127
B10: Nr. | C10: Klausimas | E10: Atsakymų variantai | I10: Atsakymas | J10: Pastabos/Komentarai
E11: 0 | F11: 1 | G11: 2
B12: I. | C12: SKAIDRUMO KULTŪRA
B13: 1.1 | C13: Ar įstaigoje yra patvirtinta korupcijos prevencijos politika? | E13: Ne | F13: Iš dalies (pastabose nurodykite, kodėl pasirinktas atsakymas iš dalies; jei dokumentas pasiekiamas internete - pateikite nuorodą) | G13: Taip (pastabose nurodykite dokumento pavadinimą ir datą, kada toks dokumentas buvo patvirtintas; jei dokumentas pasiekiamas internete - pateikite nuorodą) | I13: Taip (pastabose nurodykite dokumento pavadinimą ir datą, kada toks dokumentas buvo patvirtintas; jei dokumentas pasiekiamas internete - pateikite nuorodą) | J13: https://amvmt.lrv.lt/lt/korupcijos-prevencija/. Centralizuoto korupcijos prevencijos funkcijų atlikimo tvarkos aprašas, patvirtintas LR Aplinkos ministro 2022 m. rugpjūčio 25 d. įsakymu Nr. V-147.
B14: 1.2 | C14: Ar įstaigoje patvirtintas Etikos (Elgesio) kodeksas? | E14: Ne | F14: Iš dalies (pastabose nurodykite, kodėl pasirinktas atsakymas iš dalies; jei dokumentas pasiekiamas internete - pateikite nuorodą) | G14: Taip (pastabose nurodykite dokumento pavadinimą ir datą, kada toks dokumentas buvo patvirtintas; jei dokumentas pasiekiamas internete - pateikite nuorodą) | I14: Taip (pastabose nurodykite dokumento pavadinimą ir datą, kada toks dokumentas buvo patvirtintas; jei dokumentas pasiekiamas internete - pateikite nuorodą) | J14: Lietuvos Respublikos aplinkos ministerijos antikorupcinio elgesio taisyklės, patvirtintos Lietuvos Respublikos aplinkos ministro 2022 m. balandžio 5 d. įsakymu Nr. D1-90. https://amvmt.lrv.lt/uploads/amvmt/documents/files/Antikorupcija/VMT_(am)AntikorupcinioElgesio_tais2022.pdf
B15: 1.3 | C15: Ar periodiškai organizuojamas visų įstaigos darbuotojų antikorupcinis švietimas bei sudaromi mokymų planai? | E15: Ne | F15: Iš dalies (pastabose nurodykite, kodėl pasirinktas atsakymas iš dalies) | G15: Taip (pastabose nurodykite per paskutinius metus vykusius mokymus (nurodant datą ir kam jie buvo skirti) bei kaip sudaromi mokymų planai) | I15: Taip (pastabose nurodykite per paskutinius metus vykusius mokymus (nurodant datą ir kam jie buvo skirti) bei kaip sudaromi mokymų planai) | J15: 2025-12-11 organizuoti mokymai įstaigos viešųjų pirkimų iniciatoriams ir organizatoriams (temos: viešųjų pirkimų planavimas, inicijavimas ir įgyvendinimas; rinkos tyrimas; techninių specifikacijų rengimas; viešojo pirkimo sutarčių priežiūra; viešųjų pirkimų organizavimo ypatumai; naujovės). Mokymų planas sudaromas metų pradžioje, atsižvelgiant į darbuotojų išsakytą poreikį.
B16: 1.4 | C16: Ar įstaigos darbuotojai supažindinami su nuasmenintais vidiniais tyrimais / incidentais, su rekomendacijomis, kaip reikėtų elgtis, kad panašūs pažeidimai nepasikartotų? | E16: Ne | F16: Iš dalies (pastabose nurodykite, kodėl pasirinktas atsakymas iš dalies) | G16: Taip (pastabose nurodykite kaip darbuotojai supažindinami ir kada paskutinį kartą darbuotojams buvo pristatyta tokio pobūdžio informacija) | I16: Taip (pastabose nurodykite kaip darbuotojai supažindinami ir kada paskutinį kartą darbuotojams buvo pristatyta tokio pobūdžio informacija) | J16: Darbiniuose pasitarimuose aptariamos situacijos kaip nepadaryti klaidų vykdant funkcijas, aptariami įsiteisėję teismų sprendimai, susiję su funkcijų vykdymu.
B17: 1.5 | C17: Ar šiuo metu įstaigos darbuotojai yra supažindinti su įstaigoje taikoma antikorupcine politika (arba su taikomais principais)? | E17: Ne | F17: Iš dalies (pastabose nurodykite, kodėl pasirinktas atsakymas iš dalies) | G17: Taip, visi (arba didžioji dalis) darbuotojai yra supažindinti (pastabose nurodykite, kokiais būdais ir kaip dažnai darbuotojai supažindinami) | I17: Taip, visi (arba didžioji dalis) darbuotojai yra supažindinti (pastabose nurodykite, kokiais būdais ir kaip dažnai darbuotojai supažindinami) | J17: Visi įstaigos darbuotojai supažindinami priėmus vidaus teisės aktą arba priėmus naują darbuotoją į darbą pasirašytinai dokumentų valdymo informacinėje sistemoje.
B18: 1.6 | C18: Ar antikorupcinio informavimo, antikorupcinio švietimo organizavimo funkcija priskirta konkrečiam asmeniui ar padaliniui? | E18: Ne | F18: Iš dalies (pastabose nurodykite, kodėl pasirinktas atsakymas iš dalies) | G18: Taip (pastabose nurodykite tokio asmens pareigybes arba padalinio pavadinimą) | I18: Taip (pastabose nurodykite tokio asmens pareigybes arba padalinio pavadinimą) | J18: Įstaigoje yra paskirtas asmuo, kuris pagal kompetenciją padeda Aplinkos ministerijos Korupcijos prevencijos ir vidaus tyrimų skyriui įgyvendinti centralizuotą korupcijos prevencijos funkcijų atlikimą įstaigoje, Aplinkos ministro nustatyta tvarka; Už korupcijos prevencijos priemonių organizavimą įstaigoje atsakingas Organizacijos vystymo departamento Veiklos atitikties ir administravimo skyriaus patarėjas (teisininkas).
B19: 1.7 | C19: Ar kasmet vykdomas visų už korupcijos prevenciją atsakingų asmenų kvalifikacijos kėlimas antikorupcinėje srityje? | E19: Ne (arba įstaigoje tokie asmenys nepaskirti) | F19: Iš dalies (pastabose nurodykite, kodėl pasirinktas atsakymas iš dalies) | G19: Taip (pastabose nurodykite, per paskutinius metus vykusius mokymus (data ir mokymų tema) | I19: Taip (pastabose nurodykite, per paskutinius metus vykusius mokymus (data ir mokymų tema) | J19: 2025-12-11 organizuoti mokymai įstaigos viešųjų pirkimų iniciatoriams ir organizatoriams (temos: viešųjų pirkimų planavimas, inicijavimas ir įgyvendinimas; rinkos tyrimas; techninių specifikacijų rengimas; viešojo pirkimo sutarčių priežiūra; viešųjų pirkimų organizavimo ypatumai; naujovės)
B20: 1.8 | C20: Ar įstaigoje yra nustatyta susitikimų registravimo tvarka bei jos pagrindu pildomas susitikimų registras? | E20: Ne | F20: Iš dalies (pastabose nurodykite, kodėl pasirinktas atsakymas iš dalies) | G20: Taip (pastabose nurodykite dokumento pavadinimą, kuriame nustatyta) | I20: Taip (pastabose nurodykite dokumento pavadinimą, kuriame nustatyta) | J20: Įstaigoje galioja Lobistinės veiklos priežiūros tvarkos aprašas ir bendravimo su lobistais atmintinė, nustatantys susitikimų su lobistais registravimo įstaigoje tvarką. Įstaigoje yra paskirtas asmuo, atsakingas už lobistinės veiklos priežiūrą. Teisės aktas: Valstybinės miškų tarnybos direktoriaus 2025-09-01 įsakymas Nr. V-380 "LOBISTINĖS VEIKLOS PRIEŽIŪROS VALSTYBINĖJE MIŠKŲ TARNYBOJE TVARKOS APRAŠAS". https://amvmt.lrv.lt/public/canonical/1759914929/2501/VMT.lobistinesVeiklosPrieziurosTvarkosAprasas.pdf
B21: 1.9 | C21: Ar įstaigos interneto svetainėje yra atskira skiltis, skirta korupcijos prevencijai, bei ši skiltis yra savalaikiai peržiūrima ir pagal poreikį atnaujinama (pateikiama teisinga ir aktuali informacija)? | E21: Ne (arba įstaiga neturi savo interneto svetainės) | F21: Iš dalies (pastabose nurodykite, kodėl pasirinktas atsakymas iš dalies) | G21: Taip (pastabose pateikite nuorodą į atitinkamą skiltį) | I21: Taip (pastabose pateikite nuorodą į atitinkamą skiltį) | J21: https://amvmt.lrv.lt/lt/korupcijos-prevencija/
B22: 1.10 | C22: Ar tiekėjai yra supažindinami su įstaigoje taikomomis atsparumo korupcijai politikomis, tvarkomis ar reikalavimais tiekėjams? | E22: Ne | F22: Iš dalies (pastabose nurodykite, kodėl pasirinktas atsakymas iš dalies) | G22: Taip, visi reikšmingiausi tiekėjai yra supažindinami (pastabose nurodykite, kaip ir kokioms priemonėmis tiekėjai yra supažindinami) | I22: Taip, visi reikšmingiausi tiekėjai yra supažindinami (pastabose nurodykite, kaip ir kokioms priemonėmis tiekėjai yra supažindinami) | J22: Visi vidaus teisės aktai, susiję su korupcijos prevencija, yra skelbiami viešai įstaigos interneto tinklalapyje ir yra pasiekiami visiems suinteresuotiems asmenims. Kiekviename vykdomame viešajame pirkime yra keliami atitinkami reikalavimai tiekėjams, atsižvelgiant į VPĮ reikalavimus.
B23: 1.11 | C23: Ar įstaigoje kasmet vykdomas darbuotojų tolerancijos korupcijai tyrimas/apklausa? | E23: Ne | F23: Iš dalies (dalyvauja mažuma darbuotojų (<25 proc.) arba vykdoma rečiau nei kas 3 metus) (pastabose nurodykite kada paskutinį kartą tokia apklausa buvo organizuota ir kokia dalis darbuotojų pateikė atsakymus) | G23: Taip (pastabose nurodykite, kada paskutinį kartą tokia apklausa buvo organizuota bei kokia dalis darbuotojų pateikė atsakymus) | I23: Taip (pastabose nurodykite, kada paskutinį kartą tokia apklausa buvo organizuota bei kokia dalis darbuotojų pateikė atsakymus) | J23: 2025 m. dalyvavo 99 darbuotojai (78 proc. darbuotojų). https://amvmt.lrv.lt/public/canonical/1765804041/2718/VMT_darbuotoju_tolerancijos_korupcijai_nustatymo_2025_tyrimo_rezultatai.pdf
C24: RODIKLIAI
B25: R.1.1 | C25: Klientų pasitikėjimo įstaiga rodiklis | I25: 28 | J25: Klientų pasitikėjimas yra matuojamas pagal NPS (Net Promoter Score) metodiką (2023 m. +18 balai, 2024 m. +25 balai, 2025 m. +28 balai)
B26: R.1.2 | C26: Tolerancijos korupcijai rodiklis | I26: 0.85 | J26: 2025 m. tyrimas
B27: R.1.3 | C27: Susitikimų reigstre užregistruotų susitikimų skaičius, vnt. | I27: 0
B28: R.1.4 | C28: Mokymų valandų (korupcijos prevencijos klausimais) vienam darbuotojui skaičius, val. | I28: 2
B29: II. | C29: RIZIKŲ VALDYMAS | I29: Atsakymas | J29: Pastabos/Komentarai
B30: 2.1 | C30: Ar įstaiga turi pasitvirtinusi Rizikų valdymo politiką? | E30: Ne | F30: Iš dalies (pastabose nurodykite, kodėl pasirinktas atsakymas iš dalies; jei dokumentas pasiekiamas internete - pateikite nuorodą) | G30: Taip (pastabose nurodykite dokumento pavadinimą ir datą, kada toks dokumentas buvo patvirtintas; jei dokumentas pasiekiamas internete - pateikite nuorodą) | I30: Taip (pastabose nurodykite dokumento pavadinimą ir datą, kada toks dokumentas buvo patvirtintas; jei dokumentas pasiekiamas internete - pateikite nuorodą) | J30: https://amvmt.lrv.lt/lt/administracine-informacija/vidaus-kontrole/ Valstybinės miškų tarnybos rizikų valdymo politika patvirtinta Valstybinės miškų tarnybos direktoriaus 2023-02-14 įsakymas Nr. V-34. Galimų įstaigos rizikos veiksnių sąrašas rengiamas ir kiekvienais metais atliekamas rizikų vertinimas, sudaromas rizikų sąrašas ir jų valdymo priemonių planas.
B31: 2.2 | C31: Ar identifikuotos įstaigos vykdomos funkcijos ir / arba procesai, kuriuose nustatytas netoleruotinas rizikos lygis? | E31: Ne | F31: Iš dalies (jeigu įvertinta daugiau 10 proc., bet ne daugiau kaip 80 proc. Įstaigos vykdomų funkcijų) | G31: Taip (jeigu ivertinta daugiau kaip 80 proc. Įstaigos vykdomų funkcijų) | I31: Taip (jeigu ivertinta daugiau kaip 80 proc. Įstaigos vykdomų funkcijų) | J31: Įstaigoje yra identifikuoti procesai, kuriuose nustatytos rizikos ir jų tolerancijos lygis. 2026 m Valstybinė miškų tarnyba turi sąrašą kuriame identifikuota 12 vnt rizikų, visoms rizikos yra nustatytas rizikos lygis bei stebėsenos rodikliai, kas ketvirtį stebima rizikos rodiklių reikšmės.
B32: 2.3 | C32: Ar nustatytoms netoleruotinoms rizikoms yra taikomos priemonės joms valdyti ir / arba sumažinti? | E32: Ne | F32: Iš dalies (pastabose nurodykite, kodėl pasirinktas atsakymas iš dalies) | G32: Taip (pastabose nurodykite dokumento pavadinimą / registracijos datą arba pateikite nuorodą į registrą) | I32: Taip (pastabose nurodykite dokumento pavadinimą / registracijos datą arba pateikite nuorodą į registrą) | J32: Netoleruotinom rizikoms valdyti yra parengti priemonių planai. https://amvmt.lrv.lt/lt/administracine-informacija/vidaus-kontrole/
B33: 2.4 | C33: Ar rizikų vertinimo procese yra atskirai vertinamos korupcijos / neteisėtos veikos rizikos? | E33: Ne | F33: Iš dalies (pastabose nurodykite, kodėl pasirinktas atsakymas iš dalies) | G33: Taip (pastabose nurodykite dokumento pavadinimą / registracijos datą arba pateikite nuorodą į atlikto vertinimo ataskaitą) | I33: Taip (pastabose nurodykite dokumento pavadinimą / registracijos datą arba pateikite nuorodą į atlikto vertinimo ataskaitą) | J33: Rizikų sąraše yra patvirtinta rizika susijusi su Korupcijos ir sukčiavimo paraiškomis. Taip pat yra rizikų kuriose stebimas neteisėtai išduotų leidimų ar patvirtintų projektų rodiklis (tolerancija yra 0 vnt. ar procentų). https://amvmt.lrv.lt/lt/administracine-informacija/vidaus-kontrole/
B34: 2.5 | C34: Ar nustatytoms rizikoms valdyti yra paskirtas kompetetingas asmuo (rizikos šeimininkas)? | E34: Ne | F34: Iš dalies (pastabose nurodykite, kodėl pasirinktas atsakymas iš dalies) | G34: Taip (pastabose nurodykite, kokiam asmeniui ar padaliniui priskirta ši funkcija) | I34: Taip (pastabose nurodykite, kokiam asmeniui ar padaliniui priskirta ši funkcija) | J34: Yra identifikuotas kiekvienos rizikos šeimininkas ir jei yra parengtas rizikos valdymo planas yra paskirtas už valdymo priemonių įgyvendinimą atsakingas asmuo
B35: 2.6 | C35: Ar įstaigoje yra sukurtas įrankis, kurio pagalba darbuotojai atsakingam asmeniui galėtų pranešti apie egzistuojančias arba numanomas rizikas? | E35: Ne | F35: Iš dalies (pastabose nurodykite, kodėl pasirinktas atsakymas iš dalies) | G35: Taip (pastabose nurodykite, kodėl pasirinktas atsakymas taip) | I35: Taip (pastabose nurodykite, kodėl pasirinktas atsakymas taip) | J35: Įstaigos share point yra patalpintas dokumentas, prieigas turi visi atsakingi asmenys, kuriame pildome ketvirčio rodiklius bei planų įgyvendinimo rezultatus, taip pat yra galimybė rizikų sąrašą papildyti naujomis.
B36: 2.7 | C36: Ar sudarytas įstaigoje egzistuojančių rizikų žemėlapis? | E36: Ne | F36: Iš dalies (pastabose nurodykite, kodėl pasirinktas atsakymas iš dalies; jei dokumentas pasiekiamas - pateikite nuorodą) | G36: Taip (pastabose nurodykite, kodėl pasirinktas atsakymas taip) | I36: Taip (pastabose nurodykite, kodėl pasirinktas atsakymas taip) | J36: https://amvmt.lrv.lt/lt/administracine-informacija/vidaus-kontrole/ Rizikų žemėlapis sudaromas kas ketvirtį. Rizikos yra grupuojamos pagal rizikos poveikį ir tikimybę
B37: 2.8 | C37: Ar sudarytas egzistuojančių rizikų žemėlapis peržiūrimas bent kartą į metus? | E37: Ne | F37: Iš dalies (pastabose nurodykite, kodėl pasirinktas atsakymas iš dalies) | G37: Taip (pastabose nurodykite, kodėl pasirinktas atsakymas taip) | I37: Taip (pastabose nurodykite, kodėl pasirinktas atsakymas taip) | J37: https://amvmt.lrv.lt/lt/administracine-informacija/vidaus-kontrole/ Rizikų žemėlapis peržiūrimas kas ketvirtį
B38: 2.9 | C38: Ar bent kartą metuose vykdomi mokymai apie rizikų identifikavimą ir jų valdymą? | E38: Ne | F38: Iš dalies (pastabose nurodykite, kodėl pasirinktas atsakymas iš dalies) | G38: Taip (pastabose nurodykite, kodėl pasirinktas atsakymas taip) | I38: Taip (pastabose nurodykite, kodėl pasirinktas atsakymas taip) | J38: Sudarytos sąlygos tobulinti profesinę kvalifikaciją rizikos valdymo srityse vidiniuose mokymuose. Auditas nevykdomas, tačiau rizikų sąrašas ir ketvirčio ataskaitos teikiamos Aplinkos ministerijos atsakingiems asmenims, kurie vykdo ataskaitų vertinimą
B39: 2.10 | C39: Ar teisės aktuose nustatyta tvarka kasmet atliekama korupcijos pasireiškimo tikimybė? | E39: Ne | F39: Iš dalies (pastabose nurodykite, kodėl pasirinktas atsakymas iš dalies) | G39: Taip (pastabose nurodykite, kodėl pasirinktas atsakymas taip) | I39: Iš dalies (pastabose nurodykite, kodėl pasirinktas atsakymas iš dalies) | J39: https://amvmt.lrv.lt/lt/korupcijos-prevencija/korupcijos-pasireiskimo-tikimybe/. Centralizuoto korupcijos prevencijos funkcijų atlikimo tvarkos aprašas, patvirtintas LR Aplinkos ministro 2022 m. rugpjūčio 25 d. įsakymu Nr. V-147.
C40: RODIKLIAI
B41: R.2.1 | C41: Pateiktų ir pagrįstų nusiskundimų skaičius | I41: Nematuojamas | J41: Įstaiga dokumentų valdymo sistemoje turi atskirtą skundų registravimo bylą. Šiuo metu nėra stebima pateiktų ir pagrįstų skundų statistika
B42: R.2.2 | C42: Įvykusių incidentų ir parengtų rekomendacijų, siekiant užkardyti skundus, skaičius | I42: Nematuojama | J42: Įstaigoje diegiamas procesinis valdymas – aprašyti pagrindiniai įstaigos procesai, susiję su funkcijų vykdymu. Įvertintas jų brandos lygis, remiantis tarptautiniu CMMI modeliu, kuris procesų tobulėjimą skirsto į lygius nuo neapibrėžtos veiklos (L0) iki optimizuojamos, nuolat tobulėjančios organizacijos (L5). Atlikus vertinimą, parengta procesų optimizavimo strategija, kurios įgyvendinimas jau pradėtas.
B43: R.2.3 | C43: Nustatytų ir sumažintų netoleruotinų rizikų skaičiaus santykis | I43: 2025 metais nustatyta 5 labai didelio ir didelio reikšmingumo rizikos. Įgyvendinus numatytus rizikų valdymo planus, per ataskaitinį laikotarpį visos šios rizikos buvo sėkmingai suvaldytos: jų reikšmingumo lygis sumažėjo 4–5 balais, o rizikos iš didelio reikšmingumo kategorijos perkeltos į vidutinio reikšmingumo kategoriją. | J43: 2025 m. iš viso buvo nustatyta 16 rizikų, iš jų 5 – didelio reikšmingumo, likusios 11 – vidutinio reikšmingumo. Rizikoms valdyti parengti 9 rizikų valdymo planai. Metų pabaigoje visos 5 didelio reikšmingumo rizikos buvo suvaldytos ir perėjo į vidutinio reikšmingumo kategoriją. 4 rizikos, kurios buvo stebimos kelis metus, 2025 m. buvo visiškai suvaldytos ir į 2026 m. rizikų sąrašą neperkeltos.
B44: III. | C44: PRANEŠĖJŲ APSAUGA | I44: Atsakymas | J44: Pastabos/Komentarai
B45: 3.1 | C45: Ar įstaigoje yra nustatyta ir patvirtinta tvarka dėl informacijos apie pažeidimus nagrinėjimą? | E45: Ne | F45: Iš dalies (pastabose nurodykite, kodėl pasirinktas atsakymas iš dalies; jei dokumentas pasiekiamas internete - pateikite nuorodą) | G45: Taip (pastabose nurodykite dokumento pavadinimą ir datą, kada toks dokumentas buvo patvirtintas; jei dokumentas pasiekiamas internete - pateikite nuorodą) | I45: Taip (pastabose nurodykite dokumento pavadinimą ir datą, kada toks dokumentas buvo patvirtintas; jei dokumentas pasiekiamas internete - pateikite nuorodą) | J45: Valstybinėje miškų tarnyboje pažeidimų nagrinėjimas yra vykdomas centralizotai. Pažeidimų nagrinėjimą vykdo Aplinkos ministerija. Informacija: https://amvmt.lrv.lt/lt/korupcijos-prevencija/praneseju-apsauga-1/
B46: 3.2 | C46: Ar įstaigoje yra įdiegti ir funkcionuoja vidaus informacijos apie pažeidimus teikimo kanalai (jei yra naudojami įstaigą prižiūrinčios institucijos vidaus kanalai, tuomet atsakyme gali būti vertinami jie)? | E46: Ne | F46: Iš dalies (pastabose nurodykite, kodėl pasirinktas atsakymas iš dalies) | G46: Taip (pastabose nurodykite, kokie kanalai įdiegti bei kas iš įstaigos darbuotojų turi prieigą prie šiais kanalais pateiktos informacijos) | I46: Taip (pastabose nurodykite, kokie kanalai įdiegti bei kas iš įstaigos darbuotojų turi prieigą prie šiais kanalais pateiktos informacijos) | J46: https://amvmt.lrv.lt/lt/korupcijos-prevencija/praneseju-apsauga-1/
B47: 3.3 | C47: Ar vidaus informacijos apie pažeidimus teikimo kanaluose nurodyta, kokios yra asmenų, pateikusių informaciją apie pažeidimus, teisės, apsaugos, skatinimo ir pagalbos jiems priemonės, bei kokiu būdu bus teikiamas grįžtamasis ryšys? | E47: Ne (arba tokie kanalai neįdiegti) | F47: Iš dalies (pastabose nurodykite, kodėl pasirinktas atsakymas iš dalies) | G47: Taip (pastabose nurodykyte, kokiais būdais ir kur tokia informacija pateikiama) | I47: Taip (pastabose nurodykyte, kokiais būdais ir kur tokia informacija pateikiama) | J47: https://amvmt.lrv.lt/lt/korupcijos-prevencija/praneseju-apsauga-1/
B48: 3.4 | C48: Ar vidaus informacijos apie pažeidimus teikimo kanaluose nurodyta,kas atsakingas už šio kanalo priežiūrą, gauna ir tvarko juo gautą informaciją? | E48: Ne (arba tokie kanalai neįdiegti) | F48: Iš dalies (pastabose nurodykite, kodėl pasirinktas atsakymas iš dalies) | G48: Taip (pastabose nurodykyte, kokiais būdais ir kur tokia informacija pateikiama) | I48: Taip (pastabose nurodykyte, kokiais būdais ir kur tokia informacija pateikiama) | J48: https://amvmt.lrv.lt/lt/korupcijos-prevencija/praneseju-apsauga-1/
B49: 3.5 | C49: Ar įstaigos interneto svetainėje yra nurodyta kur galima pranešti apie pastebėtus korupcijos atvejus? | E49: Ne | F49: Iš dalies (pastabose nurodykite, kodėl pasirinktas atsakymas iš dalies) | G49: Taip (pastabose pateikite nuorodą į svetainės skiltį, kurioje galima pranešti apie pastebėtus korupcijos atvejus)) | I49: Taip (pastabose pateikite nuorodą į svetainės skiltį, kurioje galima pranešti apie pastebėtus korupcijos atvejus)) | J49: https://amvmt.lrv.lt/lt/korupcijos-prevencija/
B50: 3.6 | C50: Ar įstaigos darbuotojai supažindinti su esamomis galimybėmis (praktikomis, tvarkomis) pranešti apie pastebėtus korupcijos atvejus? | E50: Ne | F50: Iš dalies (pastabose nurodykite, kodėl pasirinktas atsakymas iš dalies) | G50: Taip, visi (arba didžioji dalis) darbuotojai yra supažindinti (pastabose nurodykite, kokiais būdais ir kaip dažnai darbuotojai supažindinami) | I50: Taip, visi (arba didžioji dalis) darbuotojai yra supažindinti (pastabose nurodykite, kokiais būdais ir kaip dažnai darbuotojai supažindinami) | J50: Darbuotojai su galiojančiomis tvarkomis supažindinami per dokumentų valdymo informacinę sistemą ir gyvai vykstančiuose pasitarimuose.
B51: 3.7 | C51: Ar įstaigoje yra taikomos motyvacinės priemonės, skatinančios darbuotojus pranešti apie korupcinio pobūdžio ar kitus pažeidimus? | E51: Ne | F51: Iš dalies (pastabose nurodykite, kodėl pasirinktas atsakymas iš dalies) | G51: Taip (pastabose nurodykite kokios priemonės yra numatytos ir kaip dažnai jos yra panadojamos) | I51: Ne
B52: 3.8 | C52: Ar paskirtas kompetentingas asmuo ar padalinys, atsakingas už informacijos gavimo kanalų priežiūrą (jei toks asmuo yra priskirtas įstaigą prižiūrinčioje institucijoje, tuomet atsakyme gali būti vertinamas tos institucijos atsakingas asmuo)? | E52: Ne | F52: Iš dalies (pastabose nurodykite, kodėl pasirinktas atsakymas iš dalies) | G52: Taip (pastabose nurodykite tokio asmens pareigybes ir nurodykite šio asmens kompetencijas/kvalifikacijas korupcijos prevencijos srityje) | I52: Taip (pastabose nurodykite tokio asmens pareigybes ir nurodykite šio asmens kompetencijas/kvalifikacijas korupcijos prevencijos srityje) | J52: Už informacijos kanalų priežiūra atsakingas Aplinkos ministerijos Korupcijoe prevencijos ir vidaus tyrimų skyrius
B53: 3.9 | C53: Ar per paskutinius metus įstaigoje buvo gauta pranešimų apie pastebėtus galimus korupcijos atvejus ar kitus pažeidimus? | E53: Ne | F53: Iš dalies (pastabose nurodykite, kodėl pasirinktas atsakymas iš dalies) | G53: Taip (pastabose nurodykite paskutinių trijų metų duomenis - kiekvienais metais gautų ir užregistruotų pranešimų skaičių) | I53: Taip (pastabose nurodykite paskutinių trijų metų duomenis - kiekvienais metais gautų ir užregistruotų pranešimų skaičių) | J53: 3
B54: 3.10 | C54: Ar įstaigoje gauti pranešimai yra nagrinėjami (tiriami), siekiant nustatyti ir įvertinti užregistruotą pažeidimą? | E54: Ne | F54: Iš dalies (pastabose nurodykite, kodėl pasirinktas atsakymas iš dalies) | G54: Taip (arba jie perduodami nagrinėti kompetentingoms institucijoms) (pastabose nurodykite kiek per paskutinius tris metus buvo išnagrinėta (arba perduota institucijoms) pranešimų apie pažeidimus) | I54: Taip (arba jie perduodami nagrinėti kompetentingoms institucijoms) (pastabose nurodykite kiek per paskutinius tris metus buvo išnagrinėta (arba perduota institucijoms) pranešimų apie pažeidimus) | J54: 3
C55: RODIKLIAI
B56: R.3.1 | C56: Pranešimų kanalais gautų pranešimų dėl korupcinių atvejų skaičius, vnt. | I56: 0
B57: R.3.2 | C57: Aptiktų ir kompetetingoms įstaigoms pateiktų ir savarankiškai ištirtų galimos korupcijos, sukčiavimų, interesų konfliktų ar kitų piktnaudžiavimo atvejų skaičius, vnt. | I57: 3
B58: IV. | C58: TEISĖKŪROS TOBULINIMAS | I58: Atsakymas | J58: Pastabos/Komentarai
B59: 4.1 | C59: Ar kasmet sudaromas teisės aktų sąrašas, kuriuos planuojama pakeisti einamaisiais metais? | E59: Ne | F59: Iš dalies (pastabose nurodykite, kodėl pasirinktas atsakymas iš dalies; jei dokumentas pasiekiamas internete - pateikite nuorodą) | G59: Taip (pastabose nurodykite dokumento pavadinimą ir datą, kada toks dokumentas buvo patvirtintas; jei dokumentas pasiekiamas internete - pateikite nuorodą) | I59: Iš dalies (pastabose nurodykite, kodėl pasirinktas atsakymas iš dalies; jei dokumentas pasiekiamas internete - pateikite nuorodą) | J59: Įstaiga nėra įstatymus leidžianti institucija, tačiau kiekvienais metais teikia pasiūlymus Aplinkos ministerijai, dėl teisės aktų tobulinimo. Įstaigos norminiai teisės aktai keičiami arba leidžiami nauji pagal poreikį.
B60: 4.2 | C60: Ar keičiamų teisės aktų sąrašas skelbiamas viešai? | E60: Ne | F60: Iš dalies (pastabose nurodykite, kodėl pasirinktas atsakymas iš dalies) | G60: Taip (pateikite nuorodą į viešai paskelbtą dokumentą) | I60: Taip (pateikite nuorodą į viešai paskelbtą dokumentą) | J60: Nuorodos į aktualias teisės aktų redakcijas skelbiamos įstaigos internetinėje svetainėje- https://amvmt.lrv.lt/lt/teisine-informacija/teises-aktai/. Nuorodos į teisės aktų projektus- https://amvmt.lrv.lt/lt/teisine-informacija/teises-aktu-projektai/
B61: 4.3 | C61: Ar įstaigoje yra sukurtas įrankis, kurio pagalba asmenys galėtų pateikti siūlymus keisti teisės aktus? | E61: Ne | F61: Iš dalies (pastabose nurodykite, kodėl pasirinktas atsakymas iš dalies) | G61: Taip (pastabose pateikite nuorodą į sukurtą įrankį) | I61: Taip (pastabose pateikite nuorodą į sukurtą įrankį) | J61: Įstaigos leidžiamiems norminiams teisės aktams pastabas ir pasiūlymus fiziniai ir juridiniai asmenys gali teikti el. paštu arba TAIS (Teisės aktų informacinėje sistemoje)
B62: 4.4 | C62: Ar pagal KPĮ 8 straipsnį ir LRV taisykles atliekamas įstaigos keičiamų teisės aktų projektų antikorupcinis vertinimas? | E62: Ne | F62: Iš dalies (pastabose nurodykite, kodėl pasirinktas atsakymas iš dalies) | G62: Taip (pastabose nurodykite dokumento pavadinimą / registracijos datą arba pateikite nuorodą į atlikto vertinimo ataskaitą) | I62: Taip (pastabose nurodykite dokumento pavadinimą / registracijos datą arba pateikite nuorodą į atlikto vertinimo ataskaitą) | J62: DĖL NEPRIKLAUSOMŲ MEDIENOS MATUOTOJŲ VEIKLOS VERTINIMO TVARKOS APRAŠO PATVIRTINIMO- https://e-seimas.lrs.lt/portal/legalAct/lt/TAP/44361321753f11f1a305c23ba1643967?positionInSearchResults=3&searchModelUUID=797847a4-78e3-4eb0-b9e6-8c07f93eb3e0
B63: 4.5 | C63: Ar teisės aktų projektų antikorupcinį vertinimą atlieka asmuo, kuris nėra teisės aktų projektų rengėjas? | E63: Ne | F63: Iš dalies (pastabose nurodykite, kodėl pasirinktas atsakymas iš dalies) | G63: Taip (pastabose nurodykite, kokiam asmeniui ar padaliniui priskirta ši funkcija) | I63: Taip (pastabose nurodykite, kokiam asmeniui ar padaliniui priskirta ši funkcija) | J63: Organizacijos vystymo departamento Veiklos atitikties ir administravimo skyriaus patarėjas
B64: 4.6 | C64: Ar antikorupcinis vertinimas atliekamas pagal antikorupcinio vertinimo pažymoje nustatytus kriterijus? | E64: Ne | F64: Iš dalies (pastabose nurodykite, kodėl pasirinktas atsakymas iš dalies) | G64: Taip (pastabose nurodykite, kodėl pasirinktas atsakymas taip) | I64: Taip (pastabose nurodykite, kodėl pasirinktas atsakymas taip) | J64: Vadovaujamasi teisės aktų reikalavimais
B65: 4.7 | C65: Ar teisės akto projekto rengėjas atsižvelgia ir / arba pagrįstai atmeta teisės aktų projekto antikorupcinio vertinimo pažymoje pateiktas pastabas? | E65: Ne | F65: Iš dalies (pastabose nurodykite, kodėl pasirinktas atsakymas iš dalies) | G65: Taip (pastabose nurodykite, kodėl pasirinktas atsakymas taip) | I65: Taip (pastabose nurodykite, kodėl pasirinktas atsakymas taip) | J65: Vadovaujamasi teisės aktų reikalavimais
B66: 4.8 | C66: Ar antikorupcinio vertinimo pažymos skelbiamos viešai? | E66: Ne | F66: Iš dalies (pastabose nurodykite, kodėl pasirinktas atsakymas iš dalies) | G66: Taip (pateikite nuorodą į viešai paskelbtus dokumentus) | I66: Taip (pateikite nuorodą į viešai paskelbtus dokumentus) | J66: https://e-seimas.lrs.lt/portal/legalAct/lt/TAP/44361321753f11f1a305c23ba1643967?positionInSearchResults=3&searchModelUUID=797847a4-78e3-4eb0-b9e6-8c07f93eb3e0
B67: 4.9 | C67: Ar piliečiai įtraukiami į teisės aktų kūrimą ir jų tobulinimą (TA derinami numatyta tvarka ir terminais TAIS'e)? | E67: Ne | F67: Iš dalies (pastabose nurodykite, kodėl pasirinktas atsakymas iš dalies) | G67: Taip (pastabose nurodykite, kodėl pasirinktas atsakymas taip) | I67: Taip (pastabose nurodykite, kodėl pasirinktas atsakymas taip) | J67: Vadovaujamasi teisės aktų reikalavimais
C68: RODIKLIAI
B69: R.4.1 | C69: Nustatytų ir pašalintų teisinių spragų ar neatitikčių skaičius | I69: 0 | J69: Nebuvo nustatyta teisinių spragų ar neatitikčių
B70: V. | C70: ESAMO ARBA POTENCIALAUS TIEKĖJO PATIKRA | I70: Atsakymas | J70: Pastabos/Komentarai
B71: 5.1 | C71: Ar įstaigoje nustatyta esamo arba potencialaus tiekėjo patikrinimo tvarka? | E71: Ne | F71: Iš dalies (pastabose nurodykite, kodėl pasirinktas atsakymas iš dalies; jei dokumentas pasiekiamas internete - pateikite nuorodą) | G71: Taip (pastabose nurodykite dokumento pavadinimą ir datą, kada toks dokumentas buvo patvirtintas; jei dokumentas pasiekiamas internete - pateikite nuorodą) | I71: Taip (pastabose nurodykite dokumento pavadinimą ir datą, kada toks dokumentas buvo patvirtintas; jei dokumentas pasiekiamas internete - pateikite nuorodą) | J71: Tiekėjai dalyvaujantys viešuosiuose pirkimuose, tikrinami VPĮ nustatyta tvarka.
B72: 5.2 | C72: Ar nustatyti kriterijai, kada atliekama esamo arba potencialaus tiekėjo patikra ? | E72: Ne | F72: Iš dalies (pastabose nurodykite, kodėl pasirinktas atsakymas iš dalies) | G72: Taip (pastabose nurodykite, kodėl pasirinktas atsakymas taip) | I72: Taip (pastabose nurodykite, kodėl pasirinktas atsakymas taip) | J72: Kiekvienas tiekėjas, kuris dalyvauja viešuosiuose pirkimuose arba su kuriuo pasirašoma sutartis, yra tikrinamas VPĮ nustatyta tvarka.
B73: 5.3 | C73: Ar nustatyti kriterijai, kurie bus vertinami (analizuojami) atliekant asmenų patikrą? | E73: Ne | F73: Iš dalies (pastabose nurodykite, kodėl pasirinktas atsakymas iš dalies) | G73: Taip (pastabose nurodykite, kodėl pasirinktas atsakymas taip) | I73: Taip (pastabose nurodykite, kodėl pasirinktas atsakymas taip) | J73: Tiekėjas tikrinamas naudojantis viešai prieinama informacija ir registrais (dažniausiai LR juridinių asmenų registru).
B74: 5.4 | C74: Ar nustatyti rizikingo (nepatikimo) tiekėjo kriterijai? | E74: Ne | F74: Iš dalies (pastabose nurodykite, kodėl pasirinktas atsakymas iš dalies) | G74: Taip (pastabose nurodykite, kodėl pasirinktas atsakymas taip) | I74: Taip (pastabose nurodykite, kodėl pasirinktas atsakymas taip) | J74: Nustatant faktą, kad tiekėjas yra nepatikimas, vadovaujamasi VPĮ nuostatomis.
B75: 5.5 | C75: Ar yra esamo arba potencialaus tiekėjo patikros vykdymo funkcija paskirta konkrečiam asmeniui arba padaliniui, darbo grupei ar komisijai ? | E75: Ne | F75: Iš dalies (pastabose nurodykite, kodėl pasirinktas atsakymas iš dalies) | G75: Taip (pastabose nurodykite, kokiam asmeniui ar padaliniui priskirta ši funkcija) | I75: Taip (pastabose nurodykite, kokiam asmeniui ar padaliniui priskirta ši funkcija) | J75: Organizacijos vystymo departamento Veiklos atitikties ir administravimo skyriaus vyriausioji specialistė (prekių ir paslaugų pirkimo).
B76: 5.6 | C76: Ar su išvada apie nepatikimą / rizikingą tiekėją supažindinami atsakingi įstaigos darbuotojai? | E76: Ne | F76: Iš dalies (pastabose nurodykite, kodėl pasirinktas atsakymas iš dalies) | G76: Taip (pastabose nurodykite, kodėl pasirinktas atsakymas taip) | I76: Taip (pastabose nurodykite, kodėl pasirinktas atsakymas taip) | J76: Jei prekių ir paslaugų pirkimo specialistė nustato, kad konkretus tiekėjas yra nepatikimas, ji informuoja apie tai šiuo faktu suinteresuotus darbuotojus/pirkimo iniciatorius.
B77: 5.7 | C77: Ar nustačius rizikingą tiekėją, imamasi priemonių, prieš sudarant sutartis ar jų vykdymo metu? | E77: Ne | F77: Iš dalies (pastabose nurodykite, kodėl pasirinktas atsakymas iš dalies) | G77: Taip (pastabose nurodykite, kodėl pasirinktas atsakymas taip) | I77: Taip (pastabose nurodykite, kodėl pasirinktas atsakymas taip) | J77: Ar tiekėjas patikimas, tikrinama dar prieš sudarant sutartį, tad kol kas nebuvo tokio atvejo, kad būtų sudaryta sutartis su nepatikimu tiekėju. Tačiau pirkimo dokumentuose visad yra nurodoma, kad jei sutarties vykdymo metu tiekėjo situacija, patikimumas pasikeistų ir atsirastų tiekėjo pašalinimo pagrindų, perkančioji organizacija turėtų teisę nutraukti ir pirkimą ir sutartį.
C78: RODIKLIAI
B79: R.5.1 | C79: Tiekėjų, kurie turi būti tikrinami ir tiekėjai, kurie patikrinti, skaičius | I79: Tikrinamas 100 proc. tiekėjų
B80: VI. | C80: INTERESŲ KONFLIKTŲ VALDYMAS IR DOVANŲ POLITIKOS ĮGYVENDINIMAS | I80: Atsakymas | J80: Pastabos/Komentarai
B81: 6.1 | C81: Ar įstaigoje patvirtinta privačių interesų derinimo ir nusišalinimo tvarka? | E81: Ne | F81: Iš dalies (pastabose nurodykite, kodėl pasirinktas atsakymas iš dalies; jei dokumentas pasiekiamas internete - pateikite nuorodą) | G81: Taip (pastabose nurodykite dokumento pavadinimą ir datą, kada toks dokumentas buvo patvirtintas; jei dokumentas pasiekiamas internete - pateikite nuorodą) | I81: Taip (pastabose nurodykite dokumento pavadinimą ir datą, kada toks dokumentas buvo patvirtintas; jei dokumentas pasiekiamas internete - pateikite nuorodą) | J81: Valstybinės miškų tarnybos direktoriaus 2022-06-07 įsakymas Nr. V-185 "DĖL VIEŠŲJŲ IR PRIVAČIŲ INTERESŲ DERINIMO VALSTYBINĖJE MIŠKŲ TARNYBOJE TVARKOS APRAŠO PATVIRTINIMO"- https://amvmt.lrv.lt/lt/korupcijos-prevencija/interesu-konfliktu-valdymas/
B82: 6.2 | C82: Ar įstaigoje yra sudarytas sąrašas pareigybių, kurias užimantys asmenys privalo deklaruoti privačius interesus? | E82: Ne | F82: Iš dalies (pastabose nurodykite, kodėl pasirinktas atsakymas iš dalies; jei dokumentas pasiekiamas internete - pateikite nuorodą) | G82: Taip (pastabose nurodykite dokumento pavadinimą ir datą, kada toks dokumentas buvo patvirtintas; jei dokumentas pasiekiamas internete - pateikite nuorodą) | I82: Taip (pastabose nurodykite dokumento pavadinimą ir datą, kada toks dokumentas buvo patvirtintas; jei dokumentas pasiekiamas internete - pateikite nuorodą) | J82: Valstybinės miškų tarnybos direktoriaus 2024 m. balandžio 26 d. įsakymas V-133 "Dėl pareigų, kurias einant Valstybinėje miškų tarnyboje privaloma deklaruoti privačius interesus, sąrašo patvirtinimo", nauja redakcija 2025-08-07 įsakymas Nr. V-348 https://amvmt.lrv.lt/lt/korupcijos-prevencija/interesu-konfliktu-valdymas/
B83: 6.3 | C83: Ar įstaigoje ne rečiau kaip kas 6 mėn. (ar įstaigos nustatytu periodiškumu) tikrinama, ar įstaigos darbuotojai, privalantys deklaruoti interesus, tinkamai ir laiku deklaravo galimus interesų konfliktus? | E83: Ne | F83: Iš dalies (pastabose nurodykite, kodėl pasirinktas atsakymas iš dalies) | G83: Taip (pastabose nurodykite, kas, kokiu būdu ir kokiu periodiškumu tai atlieka) | I83: Taip (pastabose nurodykite, kas, kokiu būdu ir kokiu periodiškumu tai atlieka) | J83: Direktoriaus įsakymu paskirtas darbuotojas. Tikrinama sistemoje PINREG pagal poreikį, tačiau ne rečiau kaip kas 6 mėn.
B84: 6.4 | C84: Ar įstaigos vadovas ir struktūrinių padalinių vadovai sistemingai supažindinami su pavaldžių asmenų privačių interesų deklaracijų turiniu bei galimais interesų konfliktais? | E84: Ne | F84: Iš dalies (pastabose nurodykite, kodėl pasirinktas atsakymas iš dalies) | G84: Taip (pastabose nurodykite, kaip užtikriniamas sistemingas informavimas ir kas užtikrina, jog šie asmenys būtų informuoti) | I84: Taip (pastabose nurodykite, kaip užtikriniamas sistemingas informavimas ir kas užtikrina, jog šie asmenys būtų informuoti) | J84: Įstaigos vadovas turi prieigą prie PINREG sistemos ir gali visuomet pasitikrinti įstaigos dabuotojų privačių interesų deklaracijas. Direktoriaus įsakymu paskirtas darbuotojas (atsakingas už darbuotojų privačių interesų deklaracijų pateikimą ir priežiūrą) reguliariai peržiūri darbuotojų privačių interesų deklaracijas ir teikia informaciją įstaigos bei padalinių vadovams.
B85: 6.5 | C85: Ar yra paskirtas kompetentingas asmuo, atsakingas už privačių interesų derinimo tvarkos įgyvendinimo priežiūrą? | E85: Ne | F85: Iš dalies (pastabose nurodykite, kodėl pasirinktas atsakymas iš dalies) | G85: Taip (pastabose nurodykite tokio asmens pareigybes ir nurodykite šio asmens kompetencijas/kvalifikacijas korupcijos prevencijos srityje) | I85: Taip (pastabose nurodykite tokio asmens pareigybes ir nurodykite šio asmens kompetencijas/kvalifikacijas korupcijos prevencijos srityje) | J85: Organizacijos vystymo departamento vyriausiasis specialistas (teisininkas)
B86: 6.6 | C86: Ar įstaigos darbuotojams ne rečiau kaip kartą į metus yra organizuojami mokymai apie interesų konfliktus bei kaip juos tinkamai valdyti? | E86: Ne | F86: Iš dalies (pastabose nurodykite, kodėl pasirinktas atsakymas iš dalies) | G86: Taip (pastabose nurodykite kiek dažnai ir kaip organizuojami mokymai) | I86: Taip (pastabose nurodykite kiek dažnai ir kaip organizuojami mokymai) | J86: Darbuotojams kiekvienais metais el. laišku teikiama informacija apie būtinybę deklaruoti viešus ir privačius interesus. Kiekvienais metais darbuotojams siunčiamos nuorodos į VTEK parengtą vaizdinę medžiagą interesų deklaravimo tematika.
B87: 6.7 | C87: Ar per paskutinius metus įstaigoje buvo užregistruotų nusišalinimų dėl interesų konfliktų (arba formalizuotai (dokumentuotai) nagrinėti potencialūs konfliktai, kurie nebūtinai pasitvirtino) ? | E87: Ne | F87: Iš dalies (pastabose nurodykite, kodėl pasirinktas atsakymas iš dalies) | G87: Taip (pastabose nurodykite paskutinių trijų metų duomenis - kiekvienais metais užregistruotų nusišalinimų skaičių ir ) formalizuotai vertintų atvejų skaičių) | I87: Taip (pastabose nurodykite paskutinių trijų metų duomenis - kiekvienais metais užregistruotų nusišalinimų skaičių ir ) formalizuotai vertintų atvejų skaičių) | J87: 2 darbuotojai pateikė nusišalinimus dėl galimo interesų konflikto
B88: 6.8 | C88: Ar įstaigoje patvirtinta dovanų teikimo ir priėmimo politika? | E88: Ne | F88: Iš dalies (pastabose nurodykite, kodėl pasirinktas atsakymas iš dalies; jei dokumentas pasiekiamas internete - pateikite nuorodą) | G88: Taip (pastabose nurodykite dokumento pavadinimą ir datą, kada toks dokumentas buvo patvirtintas; jei dokumentas pasiekiamas internete - pateikite nuorodą) | I88: Taip (pastabose nurodykite dokumento pavadinimą ir datą, kada toks dokumentas buvo patvirtintas; jei dokumentas pasiekiamas internete - pateikite nuorodą) | J88: Lietuvos Respublikos aplinkos ministro 2022 m. liepos 12 d. įsakymas Nr. V93 „Dėl Dovanų, gautų pagal tarptautinį protokolą ar tradicijas, taip pat reprezentacijai skirtų dovanų vertinimo, apskaitos ir naudojimo tvarkos aprašo ir Veiksmų, gavus neteisėtą atlygį, tvarkos aprašo patvirtinimo“, nauja redakcija 2024-05-09 įsakymu Nr. V-62- https://amvmt.lrv.lt/media/viesa/saugykla/2024/5/ILS5ol92800.pdf
B89: 6.9 | C89: Ar dovanos, gautos įstaigoje, yra registruojamos, įvertinamos ir apskaitomos (yra sudarytas dovanų registras)? | E89: Ne | F89: Iš dalies (pastabose nurodykite, kodėl pasirinktas atsakymas iš dalies) | G89: Taip (pastabose nurodykite kokia informacija yra pildoma registre bei kas yra atsakingas už registro priežiūrą) | I89: Taip (pastabose nurodykite kokia informacija yra pildoma registre bei kas yra atsakingas už registro priežiūrą) | J89: Dovanos, jei būtų gautos įstaigoje, būtų vertinamos įstaigos direktoriaus sudarytoje komisijoje ir apskaitomos. Valstybinės miškų tarnybos direktoriaus 2024-06-21 įsakymas Nr. V-206 "DĖL DOVANŲ POLITIKOS NUOSTATŲ ĮGYVENDINIMO IR VALSTYBINĖS MIŠKŲ TARNYBOS DOVANŲ VERTINIMO KOMISIJOS SUDARYMO"
B90: 6.10 | C90: Ar per paskutinius metus įstaigos dovanų registre buvo užregistruota gautų dovanų? | E90: Ne | F90: Iš dalies (pastabose nurodykite, kodėl pasirinktas atsakymas iš dalies) | G90: Taip (pastabose nurodykite kiek dovanų buvo užregistruota registre per paskutinius metus) | I90: Ne | J90: Nebuvo gauta dovanų
C91: RODIKLIAI
B92: R.6.1 | C92: Darbuotojų, kurie privalo deklaruoti privačius interesus, skaičius, vnt. | I92: 116
B93: R.6.2 | C93: Užregistruotų nusišalinimų dėl interesų konfliktų situacijų skaičius, vnt. | I93: 2
B94: R.6.3 | C94: Dovanų registre užregistruotų dovanų skaičius, vnt. | I94: 0
B95: VII. | C95: ASMENŲ PATIKRINIMAS | I95: Atsakymas | J95: Pastabos/Komentarai
B96: 7.1 | C96: Ar sudarytas ir viešai skelbiamas sąrašas pareigybių, dėl kurių numatoma kreiptis į STT pagal KPĮ 17 str. 5 d.? | E96: Ne | F96: Iš dalies (pastabose nurodykite, kodėl pasirinktas atsakymas iš dalies; jei dokumentas pasiekiamas internete - pateikite nuorodą) | G96: Taip (pastabose nurodykite dokumento pavadinimą ir datą, kada toks dokumentas buvo patvirtintas; jei dokumentas pasiekiamas internete - pateikite nuorodą) | I96: Taip (pastabose nurodykite dokumento pavadinimą ir datą, kada toks dokumentas buvo patvirtintas; jei dokumentas pasiekiamas internete - pateikite nuorodą) | J96: Valstybinės miškų tarnybos direktoriaus 2021-12-07 įsakymas Nr. V-420 "DĖL VALSTYBINĖS MIŠKŲ TARNYBOS PAREIGYBIŲ, Į KURIAS PRIEŠ SKIRIANT TEIKIAMAS PRAŠYMAS LIETUVOS RESPUBLIKOS SPECIALIŲJŲ TYRIMŲ TARNYBAI PATEIKTI INFORMACIJĄ APIE SKIRIAMĄ ASMENĮ, SĄRAŠO PATVIRTINIMO". Nauja redakcija Valstybinės miškų tarnybos direktoriaus 2025-11-17 įsakymu Nr. V-517 https://amvmt.lrv.lt/lt/korupcijos-prevencija/informacijos-apie-asmeni-surinkimas/
B97: 7.2 | C97: Ar visais atvejais kreipiamasi į STT, kai rašytinio prašymo, kad STT pateiktų informaciją apie asmenį, pateikimas yra privalomas pagal KPĮ 17 str. 4 d.? | E97: Ne | F97: Iš dalies (pastabose nurodykite, kodėl pasirinktas atsakymas iš dalies) | G97: Taip (jei yra galimybė, nurodykite tai reglamentuojančio vidinio teisės akto numerį arba pateikite nuorodą į šį dokumentą) | I97: Taip (jei yra galimybė, nurodykite tai reglamentuojančio vidinio teisės akto numerį arba pateikite nuorodą į šį dokumentą) | J97: Valstybinės miškų tarnybos direktoriaus 2021-12-07 įsakymas Nr. V-420 "DĖL VALSTYBINĖS MIŠKŲ TARNYBOS PAREIGYBIŲ, Į KURIAS PRIEŠ SKIRIANT TEIKIAMAS PRAŠYMAS LIETUVOS RESPUBLIKOS SPECIALIŲJŲ TYRIMŲ TARNYBAI PATEIKTI INFORMACIJĄ APIE SKIRIAMĄ ASMENĮ, SĄRAŠO PATVIRTINIMO". Nauja redakcija Valstybinės miškų tarnybos direktoriaus 2025-11-17 įsakymu Nr. V-517 https://amvmt.lrv.lt/lt/korupcijos-prevencija/informacijos-apie-asmeni-surinkimas/
B98: 7.3 | C98: Ar yra atvejų, kai kreipiamasi į STT su prašymu pateikti informaciją apie asmenį, kai toks kreipimasis pagal KPĮ 17 str. 4 d. nėra privalomas? | E98: Ne | F98: Iš dalies (pastabose nurodykite, kodėl pasirinktas atsakymas iš dalies) | G98: Taip (pastabose nurodykite dokumento pavadinimą, kuriame nurodoma dėl kokių pareigybių kreipiamąsi, jei yra galimybė - pateikite nuorodą į jį) | I98: Taip (pastabose nurodykite dokumento pavadinimą, kuriame nurodoma dėl kokių pareigybių kreipiamąsi, jei yra galimybė - pateikite nuorodą į jį) | J98: Valstybinės miškų tarnybos direktoriaus 2021-12-07 įsakymas Nr. V-420 "DĖL VALSTYBINĖS MIŠKŲ TARNYBOS PAREIGYBIŲ, Į KURIAS PRIEŠ SKIRIANT TEIKIAMAS PRAŠYMAS LIETUVOS RESPUBLIKOS SPECIALIŲJŲ TYRIMŲ TARNYBAI PATEIKTI INFORMACIJĄ APIE SKIRIAMĄ ASMENĮ, SĄRAŠO PATVIRTINIMO". Nauja redakcija Valstybinės miškų tarnybos direktoriaus 2025-11-17 įsakymu Nr. V-517 https://amvmt.lrv.lt/lt/korupcijos-prevencija/informacijos-apie-asmeni-surinkimas/
B99: 7.4 | C99: Ar kreipiamasi į STT dėl asmens, kurį ketinama skirti į pareigas laikinai? | E99: Ne | F99: Iš dalies (pastabose nurodykite, kodėl pasirinktas atsakymas iš dalies) | G99: Taip (pastabose nurodykite dokumento pavadinimą, kuriame nurodoma dėl kokių pareigybių kreipiamąsi, jei yra galimybė - pateikite nuorodą į jį) | I99: Taip (pastabose nurodykite dokumento pavadinimą, kuriame nurodoma dėl kokių pareigybių kreipiamąsi, jei yra galimybė - pateikite nuorodą į jį) | J99: Valstybinės miškų tarnybos direktoriaus 2021-12-07 įsakymas Nr. V-420 "DĖL VALSTYBINĖS MIŠKŲ TARNYBOS PAREIGYBIŲ, Į KURIAS PRIEŠ SKIRIANT TEIKIAMAS PRAŠYMAS LIETUVOS RESPUBLIKOS SPECIALIŲJŲ TYRIMŲ TARNYBAI PATEIKTI INFORMACIJĄ APIE SKIRIAMĄ ASMENĮ, SĄRAŠO PATVIRTINIMO". Nauja redakcija Valstybinės miškų tarnybos direktoriaus 2025-11-17 įsakymu Nr. V-517 https://amvmt.lrv.lt/lt/korupcijos-prevencija/informacijos-apie-asmeni-surinkimas/
B100: 7.5 | C100: Ar kreipiamasi į STT dėl asmens, kurį ketinama skirti dar vienai kadencijai į tas pačias pareigas? | E100: Ne | F100: Iš dalies (pastabose nurodykite, kodėl pasirinktas atsakymas iš dalies) | G100: Taip (pastabose nurodykite dokumento pavadinimą, kuriame nurodoma dėl kokių pareigybių kreipiamąsi, jei yra galimybė - pateikite nuorodą į jį) | I100: Taip (pastabose nurodykite dokumento pavadinimą, kuriame nurodoma dėl kokių pareigybių kreipiamąsi, jei yra galimybė - pateikite nuorodą į jį) | J100: Valstybinės miškų tarnybos direktoriaus 2021-12-07 įsakymas Nr. V-420 "DĖL VALSTYBINĖS MIŠKŲ TARNYBOS PAREIGYBIŲ, Į KURIAS PRIEŠ SKIRIANT TEIKIAMAS PRAŠYMAS LIETUVOS RESPUBLIKOS SPECIALIŲJŲ TYRIMŲ TARNYBAI PATEIKTI INFORMACIJĄ APIE SKIRIAMĄ ASMENĮ, SĄRAŠO PATVIRTINIMO". Nauja redakcija Valstybinės miškų tarnybos direktoriaus 2025-11-17 įsakymu Nr. V-517 https://amvmt.lrv.lt/lt/korupcijos-prevencija/informacijos-apie-asmeni-surinkimas/
B101: 7.6 | C101: Ar iš STT gauta informacija apie asmenį yra naudojama kitais tikslais, ne tik priimant sprendimą dėl asmens tinkamumo siekiamoms pareigoms ar tarnybinės (drausminės) nuobaudos skyrimo? | E101: Taip (pastabose nurodykite, kokiems tikslams buvo panaudota iš STT gauta informacija) | F101: Iš dalies (pastabose nurodykite, kodėl pasirinktas atsakymas iš dalies) | G101: Ne | I101: Taip (pastabose nurodykite, kokiems tikslams buvo panaudota iš STT gauta informacija) | J101: Priimant sprendimus, susijusius su viešojo sektoriaus subjekto personalo formavimu bei vertinant korupcijos rizikos veiksnius.
B102: 7.7 | C102: Ar per pastaruosius metus buvo atvejų, kai asmuo buvo skirtas į pareigas negavus atsakymo iš STT (pvz., jei baigiasi terminai)? | E102: Taip (pastabose nurodykite atvejus ir juos lėmusias aplinkybes) | F102: Iš dalies (pastabose nurodykite, kodėl pasirinktas atsakymas iš dalies) | G102: Ne | I102: Ne
C103: RODIKLIAI
B104: R.7.1 | C104: Pareigybių, dėl kurių kreipiamasi į STT pateikti informaciją, skaičius | I104: 7
B105: R.7.2 | C105: Prašymų, kad STT pateiktų informaciją apie asmenį pagal KPĮ 9 ar 91 str., skaičius, vnt. | I105: 7
...
